BEGIN:VCALENDAR
VERSION:2.0
PRODID:-//Kilkenny Recreation &amp; Sports Partnership - ECPv6.15.20//NONSGML v1.0//EN
CALSCALE:GREGORIAN
METHOD:PUBLISH
X-WR-CALNAME:Kilkenny Recreation &amp; Sports Partnership
X-ORIGINAL-URL:https://krsp.ie
X-WR-CALDESC:Events for Kilkenny Recreation &amp; Sports Partnership
REFRESH-INTERVAL;VALUE=DURATION:PT1H
X-Robots-Tag:noindex
X-PUBLISHED-TTL:PT1H
BEGIN:VTIMEZONE
TZID:Europe/Dublin
BEGIN:STANDARD
TZOFFSETFROM:+0000
TZOFFSETTO:+0100
TZNAME:IST
DTSTART:20230326T010000
END:STANDARD
BEGIN:DAYLIGHT
TZOFFSETFROM:+0100
TZOFFSETTO:+0000
TZNAME:GMT
DTSTART:20231029T010000
END:DAYLIGHT
BEGIN:STANDARD
TZOFFSETFROM:+0000
TZOFFSETTO:+0100
TZNAME:IST
DTSTART:20240331T010000
END:STANDARD
BEGIN:DAYLIGHT
TZOFFSETFROM:+0100
TZOFFSETTO:+0000
TZNAME:GMT
DTSTART:20241027T010000
END:DAYLIGHT
BEGIN:STANDARD
TZOFFSETFROM:+0000
TZOFFSETTO:+0100
TZNAME:IST
DTSTART:20250330T010000
END:STANDARD
BEGIN:DAYLIGHT
TZOFFSETFROM:+0100
TZOFFSETTO:+0000
TZNAME:GMT
DTSTART:20251026T010000
END:DAYLIGHT
END:VTIMEZONE
BEGIN:VEVENT
DTSTART;TZID=Europe/Dublin:20240512T140000
DTEND;TZID=Europe/Dublin:20240512T160000
DTSTAMP:20260424T194335
CREATED:20240417T154610Z
LAST-MODIFIED:20240425T131924Z
UID:3451-1715522400-1715529600@krsp.ie
SUMMARY:2024 KRSP Bike Week - Kilkenny Cycle Tour
DESCRIPTION:People of Kilkenny! Did you ever want to learn more about the history and landmarks of Kilkenny? \nThis is a perfect opportunity for you! As part of Bike week we are running a cycling tour of Kilkenny. A great way to see the city and learn more about it. This cycling tour of medieval Kilkenny is the best way to discover all of our historical attractions in a fun\, casual\, yet educational way. We use river bank cycle paths along the River Nore and backstreets so there’s no need to worry about traffic. We’ll cover about 10km in total.  \nIt will be led by Jason from Kilkenny Cycling Tours! \n\nMeeting point: Our depot at Sullivan’s Taproom (just behind The Wine Centre)\nTour can be shortened or extended to suit all abilities and time constraints.\nBike and safety equipment included in the cost\nThis event is for 18+ years old\n\nFor any quires you can contact Ciara on 085-8782773 or ciara@krsp.ie
URL:https://krsp.ie/event/2024-bike-week-kilkenny-cycle-tour/
LOCATION:16 John Street\, Kilkenny City\, Kilkenny\, R95CC8N\, Ireland
ATTACH;FMTTYPE=image/jpeg:https://krsp.ie/wp-content/uploads/2024/04/Capture.jpg
END:VEVENT
END:VCALENDAR