BEGIN:VCALENDAR
VERSION:2.0
PRODID:-//Kilkenny Recreation &amp; Sports Partnership - ECPv6.15.20//NONSGML v1.0//EN
CALSCALE:GREGORIAN
METHOD:PUBLISH
X-WR-CALNAME:Kilkenny Recreation &amp; Sports Partnership
X-ORIGINAL-URL:https://krsp.ie
X-WR-CALDESC:Events for Kilkenny Recreation &amp; Sports Partnership
REFRESH-INTERVAL;VALUE=DURATION:PT1H
X-Robots-Tag:noindex
X-PUBLISHED-TTL:PT1H
BEGIN:VTIMEZONE
TZID:Europe/Dublin
BEGIN:STANDARD
TZOFFSETFROM:+0000
TZOFFSETTO:+0100
TZNAME:IST
DTSTART:20230326T010000
END:STANDARD
BEGIN:DAYLIGHT
TZOFFSETFROM:+0100
TZOFFSETTO:+0000
TZNAME:GMT
DTSTART:20231029T010000
END:DAYLIGHT
BEGIN:STANDARD
TZOFFSETFROM:+0000
TZOFFSETTO:+0100
TZNAME:IST
DTSTART:20240331T010000
END:STANDARD
BEGIN:DAYLIGHT
TZOFFSETFROM:+0100
TZOFFSETTO:+0000
TZNAME:GMT
DTSTART:20241027T010000
END:DAYLIGHT
BEGIN:STANDARD
TZOFFSETFROM:+0000
TZOFFSETTO:+0100
TZNAME:IST
DTSTART:20250330T010000
END:STANDARD
BEGIN:DAYLIGHT
TZOFFSETFROM:+0100
TZOFFSETTO:+0000
TZNAME:GMT
DTSTART:20251026T010000
END:DAYLIGHT
END:VTIMEZONE
BEGIN:VEVENT
DTSTART;TZID=Europe/Dublin:20240410T193000
DTEND;TZID=Europe/Dublin:20240529T203000
DTSTAMP:20260424T193512
CREATED:20240311T131413Z
LAST-MODIFIED:20240410T084158Z
UID:2877-1712777400-1717014600@krsp.ie
SUMMARY:2024 KRSP Boxercise April - May
DESCRIPTION:Boxercise is a 8 Week programme starting on Wednesday 8th November @7:30PM In Colaiste Mhuire Johnstown Gym. Sign up now! \nHave you always wanted to start Boxercise? Now is your chance! \nKilkenny Recreation & Sports Partnership is organising a 8 week in person Boxercise programme for complete beginners. The Boxercise programme will be led by a fully qualified coach. Cost is €15 for the programme. Limited places available. \nThe aim of the 8-week programme is to support participants to improve your motor skills\, reaction times and agility\, improve your hand-eye coordination and increasing your overall fitness and health. \nThis programme is the starting point for anyone wishing to improve their overall fitness. \nThis is a limited event so please book if you intend and are able to make majority of classes! \nALL participants MUST pre-register online. If you need support to register online contact Ciara Kelly 085-8782773 or ciara@krsp.ie
URL:https://krsp.ie/event/2024-boxercise-may-apr/
LOCATION:Colaiste Mhuire\, Johnstown\, Kilkenny\, E41H978\, Ireland
CATEGORIES:Events
ATTACH;FMTTYPE=image/png:https://krsp.ie/wp-content/uploads/2024/03/4-week-female-boxercise-classes-1000-x-500-px.png
END:VEVENT
END:VCALENDAR