BEGIN:VCALENDAR
VERSION:2.0
PRODID:-//Kilkenny Recreation &amp; Sports Partnership - ECPv6.15.20//NONSGML v1.0//EN
CALSCALE:GREGORIAN
METHOD:PUBLISH
X-WR-CALNAME:Kilkenny Recreation &amp; Sports Partnership
X-ORIGINAL-URL:https://krsp.ie
X-WR-CALDESC:Events for Kilkenny Recreation &amp; Sports Partnership
REFRESH-INTERVAL;VALUE=DURATION:PT1H
X-Robots-Tag:noindex
X-PUBLISHED-TTL:PT1H
BEGIN:VTIMEZONE
TZID:Europe/Dublin
BEGIN:STANDARD
TZOFFSETFROM:+0000
TZOFFSETTO:+0100
TZNAME:IST
DTSTART:20230326T010000
END:STANDARD
BEGIN:DAYLIGHT
TZOFFSETFROM:+0100
TZOFFSETTO:+0000
TZNAME:GMT
DTSTART:20231029T010000
END:DAYLIGHT
BEGIN:STANDARD
TZOFFSETFROM:+0000
TZOFFSETTO:+0100
TZNAME:IST
DTSTART:20240331T010000
END:STANDARD
BEGIN:DAYLIGHT
TZOFFSETFROM:+0100
TZOFFSETTO:+0000
TZNAME:GMT
DTSTART:20241027T010000
END:DAYLIGHT
BEGIN:STANDARD
TZOFFSETFROM:+0000
TZOFFSETTO:+0100
TZNAME:IST
DTSTART:20250330T010000
END:STANDARD
BEGIN:DAYLIGHT
TZOFFSETFROM:+0100
TZOFFSETTO:+0000
TZNAME:GMT
DTSTART:20251026T010000
END:DAYLIGHT
END:VTIMEZONE
BEGIN:VEVENT
DTSTART;TZID=Europe/Dublin:20240622T090000
DTEND;TZID=Europe/Dublin:20240622T160000
DTSTAMP:20260424T204753
CREATED:20240515T111702Z
LAST-MODIFIED:20240529T160235Z
UID:3734-1719046800-1719072000@krsp.ie
SUMMARY:2024 KRSP First Aid Course - Cillín Hill
DESCRIPTION:Kilkenny Recreation and Sports Partnership are delighted to run a first aid courses open only to sports clubs in Kilkenny! \nThe recognition\, assessment\, and immediate on-site management of sports injuries are crucial to facilitate rehabilitation and to minimise further risk of harm to the athlete. This course is designed for coaches\, instructors\, teachers\, supervisors\, sports assistants\, and volunteers\, teaches the medical assessment and management of a wide variety of sports injuries. Importantly\, participants will also know how to recognise when professional medical referral is warranted. \nUpon successful completion of the course participants are presented with an Sports First Aid Certificate which is valid for two years. \nIncluded in the training are the basic techniques of cardiopulmonary resuscitation (CPR)\, the use of an Automated External Defibrillator (AED) and the action to take in the event of choking for children. During the resuscitation training we use a ratio of 1:1 (1 manikin for each participant) this gives you the maximum hands-on practical training and affords the best hygiene standards. \nThe course takes place from 9-4pm in Unit 9\, Cillian Hill.  \nOnly 2 volunteers per club is permitted.  \nFor more information please contact Ciara on 085-8782773 or ciara@krsp.ie
URL:https://krsp.ie/event/2024-krsp-first-aid-course-cillin-hill/
LOCATION:Cillín Hill Business & Retail Park\, Kilkenny City\, Kilkenny\, R95 A4VP\, Ireland
CATEGORIES:Volunteering
ATTACH;FMTTYPE=image/png:https://krsp.ie/wp-content/uploads/2024/04/Untitled-1000-x-500-px.png
END:VEVENT
END:VCALENDAR