BEGIN:VCALENDAR
VERSION:2.0
PRODID:-//Kilkenny Recreation &amp; Sports Partnership - ECPv6.15.20//NONSGML v1.0//EN
CALSCALE:GREGORIAN
METHOD:PUBLISH
X-WR-CALNAME:Kilkenny Recreation &amp; Sports Partnership
X-ORIGINAL-URL:https://krsp.ie
X-WR-CALDESC:Events for Kilkenny Recreation &amp; Sports Partnership
REFRESH-INTERVAL;VALUE=DURATION:PT1H
X-Robots-Tag:noindex
X-PUBLISHED-TTL:PT1H
BEGIN:VTIMEZONE
TZID:Europe/Dublin
BEGIN:STANDARD
TZOFFSETFROM:+0000
TZOFFSETTO:+0100
TZNAME:IST
DTSTART:20230326T010000
END:STANDARD
BEGIN:DAYLIGHT
TZOFFSETFROM:+0100
TZOFFSETTO:+0000
TZNAME:GMT
DTSTART:20231029T010000
END:DAYLIGHT
BEGIN:STANDARD
TZOFFSETFROM:+0000
TZOFFSETTO:+0100
TZNAME:IST
DTSTART:20240331T010000
END:STANDARD
BEGIN:DAYLIGHT
TZOFFSETFROM:+0100
TZOFFSETTO:+0000
TZNAME:GMT
DTSTART:20241027T010000
END:DAYLIGHT
BEGIN:STANDARD
TZOFFSETFROM:+0000
TZOFFSETTO:+0100
TZNAME:IST
DTSTART:20250330T010000
END:STANDARD
BEGIN:DAYLIGHT
TZOFFSETFROM:+0100
TZOFFSETTO:+0000
TZNAME:GMT
DTSTART:20251026T010000
END:DAYLIGHT
END:VTIMEZONE
BEGIN:VEVENT
DTSTART;TZID=Europe/Dublin:20240923T100000
DTEND;TZID=Europe/Dublin:20241202T110000
DTSTAMP:20260425T035916
CREATED:20240918T130118Z
LAST-MODIFIED:20240918T130118Z
UID:5613-1727085600-1733137200@krsp.ie
SUMMARY:2024 KRSP Go For Life Games - Autumn
DESCRIPTION:Kilkenny Recreation & Sports Partnership welcomes you all to take part in Go For Life Games. They will be played each Monday morning for 7 weeks at 10am in The Watershed\, Kilkenny \nThese games and activities are fun and a little bit of gentle exercise too! \n23rd Sept. – 2nd Dec (10 weeks). No activities on October 28 (Bank Holiday). \nPre Booking on https://krsp.ie/krsp-events/ \nFor help with booking and more information call Seamus on 087 3567884 or email seamus@krsp.ie/     Please note: NO cash payment taken on the day. \nWhile you may not have heard of the games\, they are adapted and easy to play games. They’re great fun and are suitable for everyone. The games played are: mat bowling\, boccia and skittles – all easy to learn and have fun at.
URL:https://krsp.ie/event/2024-krsp-go-for-life-games-autumn/
LOCATION:The Watershed\, Bohernatounish Road\, Kilkenny
ATTACH;FMTTYPE=image/jpeg:https://krsp.ie/wp-content/uploads/2024/09/shortmat-bowls-measuring.jpg
ORGANIZER;CN="Kilkenny Recreation & Sports Partnership":MAILTO:info@krsp.ie
END:VEVENT
END:VCALENDAR