BEGIN:VCALENDAR
VERSION:2.0
PRODID:-//Kilkenny Recreation &amp; Sports Partnership - ECPv6.15.20//NONSGML v1.0//EN
CALSCALE:GREGORIAN
METHOD:PUBLISH
X-WR-CALNAME:Kilkenny Recreation &amp; Sports Partnership
X-ORIGINAL-URL:https://krsp.ie
X-WR-CALDESC:Events for Kilkenny Recreation &amp; Sports Partnership
REFRESH-INTERVAL;VALUE=DURATION:PT1H
X-Robots-Tag:noindex
X-PUBLISHED-TTL:PT1H
BEGIN:VTIMEZONE
TZID:Europe/Dublin
BEGIN:STANDARD
TZOFFSETFROM:+0000
TZOFFSETTO:+0100
TZNAME:IST
DTSTART:20230326T010000
END:STANDARD
BEGIN:DAYLIGHT
TZOFFSETFROM:+0100
TZOFFSETTO:+0000
TZNAME:GMT
DTSTART:20231029T010000
END:DAYLIGHT
BEGIN:STANDARD
TZOFFSETFROM:+0000
TZOFFSETTO:+0100
TZNAME:IST
DTSTART:20240331T010000
END:STANDARD
BEGIN:DAYLIGHT
TZOFFSETFROM:+0100
TZOFFSETTO:+0000
TZNAME:GMT
DTSTART:20241027T010000
END:DAYLIGHT
BEGIN:STANDARD
TZOFFSETFROM:+0000
TZOFFSETTO:+0100
TZNAME:IST
DTSTART:20250330T010000
END:STANDARD
BEGIN:DAYLIGHT
TZOFFSETFROM:+0100
TZOFFSETTO:+0000
TZNAME:GMT
DTSTART:20251026T010000
END:DAYLIGHT
END:VTIMEZONE
BEGIN:VEVENT
DTSTART;TZID=Europe/Dublin:20240501T150000
DTEND;TZID=Europe/Dublin:20240503T180000
DTSTAMP:20260424T183926
CREATED:20240409T142829Z
LAST-MODIFIED:20240502T094004Z
UID:3347-1714575600-1714759200@krsp.ie
SUMMARY:2024 KRSP Learn To Cycle Programmes Bike Week
DESCRIPTION:Kilkenny Recreation & Sports Partnership will deliver 3 Learn To Cycle programmes as part of our Bike Week 2024 programme. All programmes will take place in Gaelscoil Osraí (R95 AT85) on the astro turf. Dates:  May 1st to 3rd\, 2024 inclusive. Please note age groups below and ensure to book into the appropriate programme. \n\nLearn 2 Cycle Adults – mixed ability group from 3pm – 4pm\n\n\nLearn 2 Cycle – Children – mixed ability group.  Ages 5 to 7 years – 4pm – 5pm;       Age 8 years and over 5pm – 6pm\n\nAll programmes €15 per person with support from Bike Week 2024 programme. All participants must have their own working bike and helmet. \n***IMPORTANT*** please read \nPLEASE NOTE BEFORE YOU ATTEND: All participants must have a properly working bike or balance bike for this programme. The brakes and gears MUST WORK PROPERLY. The tyres must be CORRECTLY INFLATED (see side of tyre for this information). Please do not attend the programme with a bike that is not fit for cycling. Our tutors are engaged to teach cycling and not to conduct bike repairs.  \nALL participants will be required to wear a helmet for the programme at all times – no exceptions. \nNOTE FOR PARTICIPANTS: If you have a bike but are not yet cycling\, please remove the pedals before the first session. Each session lasts one hour and turning up with issues with the bike takes away from tuition time and holds up the session for all the other participants and the tutors. Parents/guardians/care staff must remain on site for the duration of the session.
URL:https://krsp.ie/event/2024-krsp-learn-to-cycle-programmes-bike-week/
CATEGORIES:Events
ATTACH;FMTTYPE=image/jpeg:https://krsp.ie/wp-content/uploads/2024/04/BIKE_WEEK_2024_STATIC_ENG_BREEZE_1x1.jpg
END:VEVENT
END:VCALENDAR