BEGIN:VCALENDAR
VERSION:2.0
PRODID:-//Kilkenny Recreation &amp; Sports Partnership - ECPv6.15.20//NONSGML v1.0//EN
CALSCALE:GREGORIAN
METHOD:PUBLISH
X-WR-CALNAME:Kilkenny Recreation &amp; Sports Partnership
X-ORIGINAL-URL:https://krsp.ie
X-WR-CALDESC:Events for Kilkenny Recreation &amp; Sports Partnership
REFRESH-INTERVAL;VALUE=DURATION:PT1H
X-Robots-Tag:noindex
X-PUBLISHED-TTL:PT1H
BEGIN:VTIMEZONE
TZID:Europe/Dublin
BEGIN:STANDARD
TZOFFSETFROM:+0000
TZOFFSETTO:+0100
TZNAME:IST
DTSTART:20230326T010000
END:STANDARD
BEGIN:DAYLIGHT
TZOFFSETFROM:+0100
TZOFFSETTO:+0000
TZNAME:GMT
DTSTART:20231029T010000
END:DAYLIGHT
BEGIN:STANDARD
TZOFFSETFROM:+0000
TZOFFSETTO:+0100
TZNAME:IST
DTSTART:20240331T010000
END:STANDARD
BEGIN:DAYLIGHT
TZOFFSETFROM:+0100
TZOFFSETTO:+0000
TZNAME:GMT
DTSTART:20241027T010000
END:DAYLIGHT
BEGIN:STANDARD
TZOFFSETFROM:+0000
TZOFFSETTO:+0100
TZNAME:IST
DTSTART:20250330T010000
END:STANDARD
BEGIN:DAYLIGHT
TZOFFSETFROM:+0100
TZOFFSETTO:+0000
TZNAME:GMT
DTSTART:20251026T010000
END:DAYLIGHT
END:VTIMEZONE
BEGIN:VEVENT
DTSTART;TZID=Europe/Dublin:20240419T100000
DTEND;TZID=Europe/Dublin:20240524T110000
DTSTAMP:20260424T211751
CREATED:20240418T121316Z
LAST-MODIFIED:20240418T121509Z
UID:3459-1713520800-1716548400@krsp.ie
SUMMARY:2024 KRSP Walking Football at Newpark AFC
DESCRIPTION:In partnership with Newpark Close FRC\, Newpark AFC and FAI\, we are delivering a walking football for males over 50 that want to try or reconnect with the beautiful game. \nThe programme with take place in Newpark AFC\, Kilkenny on Fridays 10am for 6 weeks. \nPlay football again at your pace and have fun\, reconnect. You can talk about your silky skills over tea/coffee in Newpark Close Family Resource Centre afterwards! \n  \nFor more information contact Seamus 0567794991 or email seamus@krsp.ie
URL:https://krsp.ie/event/2024-krsp-walking-football-at-newpark-afc/
LOCATION:Newpark AFC\, Newpark Lower\, Kilkenny\, Ireland
CATEGORIES:Events
ATTACH;FMTTYPE=image/png:https://krsp.ie/wp-content/uploads/2024/04/WALK-1000-x-500-px.png
END:VEVENT
END:VCALENDAR