BEGIN:VCALENDAR
VERSION:2.0
PRODID:-//Kilkenny Recreation &amp; Sports Partnership - ECPv6.15.20//NONSGML v1.0//EN
CALSCALE:GREGORIAN
METHOD:PUBLISH
X-WR-CALNAME:Kilkenny Recreation &amp; Sports Partnership
X-ORIGINAL-URL:https://krsp.ie
X-WR-CALDESC:Events for Kilkenny Recreation &amp; Sports Partnership
REFRESH-INTERVAL;VALUE=DURATION:PT1H
X-Robots-Tag:noindex
X-PUBLISHED-TTL:PT1H
BEGIN:VTIMEZONE
TZID:Europe/Dublin
BEGIN:STANDARD
TZOFFSETFROM:+0000
TZOFFSETTO:+0100
TZNAME:IST
DTSTART:20230326T010000
END:STANDARD
BEGIN:DAYLIGHT
TZOFFSETFROM:+0100
TZOFFSETTO:+0000
TZNAME:GMT
DTSTART:20231029T010000
END:DAYLIGHT
BEGIN:STANDARD
TZOFFSETFROM:+0000
TZOFFSETTO:+0100
TZNAME:IST
DTSTART:20240331T010000
END:STANDARD
BEGIN:DAYLIGHT
TZOFFSETFROM:+0100
TZOFFSETTO:+0000
TZNAME:GMT
DTSTART:20241027T010000
END:DAYLIGHT
BEGIN:STANDARD
TZOFFSETFROM:+0000
TZOFFSETTO:+0100
TZNAME:IST
DTSTART:20250330T010000
END:STANDARD
BEGIN:DAYLIGHT
TZOFFSETFROM:+0100
TZOFFSETTO:+0000
TZNAME:GMT
DTSTART:20251026T010000
END:DAYLIGHT
END:VTIMEZONE
BEGIN:VEVENT
DTSTART;TZID=Europe/Dublin:20240408T200000
DTEND;TZID=Europe/Dublin:20240527T210000
DTSTAMP:20260424T221359
CREATED:20240213T111455Z
LAST-MODIFIED:20240521T130322Z
UID:2641-1712606400-1716843600@krsp.ie
SUMMARY:2024 KRSP Men on the Move April - May
DESCRIPTION:Men On The Move is a men only 7 week programme that runs every Monday night at 8pm (excluding Bank Holiday Monday) in The Watershed.  \nMen of every age are welcome. The programme can help you to feel fitter\, have more energy and to meet and connect with new people. PLEASE bring a friend – there’s room for everybody.  \nPre-registration is necessary. No cash collection. Please contact Ciara if you need assistance registering 085-8782773
URL:https://krsp.ie/event/2024-men-on-the-move-april-may/
CATEGORIES:Events
ATTACH;FMTTYPE=image/png:https://krsp.ie/wp-content/uploads/2024/02/Men-On-The-Move-Examples-1000-x-500-px.png
END:VEVENT
END:VCALENDAR