BEGIN:VCALENDAR
VERSION:2.0
PRODID:-//Kilkenny Recreation &amp; Sports Partnership - ECPv6.15.20//NONSGML v1.0//EN
CALSCALE:GREGORIAN
METHOD:PUBLISH
X-WR-CALNAME:Kilkenny Recreation &amp; Sports Partnership
X-ORIGINAL-URL:https://krsp.ie
X-WR-CALDESC:Events for Kilkenny Recreation &amp; Sports Partnership
REFRESH-INTERVAL;VALUE=DURATION:PT1H
X-Robots-Tag:noindex
X-PUBLISHED-TTL:PT1H
BEGIN:VTIMEZONE
TZID:Europe/Dublin
BEGIN:STANDARD
TZOFFSETFROM:+0000
TZOFFSETTO:+0100
TZNAME:IST
DTSTART:20240331T010000
END:STANDARD
BEGIN:DAYLIGHT
TZOFFSETFROM:+0100
TZOFFSETTO:+0000
TZNAME:GMT
DTSTART:20241027T010000
END:DAYLIGHT
BEGIN:STANDARD
TZOFFSETFROM:+0000
TZOFFSETTO:+0100
TZNAME:IST
DTSTART:20250330T010000
END:STANDARD
BEGIN:DAYLIGHT
TZOFFSETFROM:+0100
TZOFFSETTO:+0000
TZNAME:GMT
DTSTART:20251026T010000
END:DAYLIGHT
BEGIN:STANDARD
TZOFFSETFROM:+0000
TZOFFSETTO:+0100
TZNAME:IST
DTSTART:20260329T010000
END:STANDARD
BEGIN:DAYLIGHT
TZOFFSETFROM:+0100
TZOFFSETTO:+0000
TZNAME:GMT
DTSTART:20261025T010000
END:DAYLIGHT
END:VTIMEZONE
BEGIN:VEVENT
DTSTART;TZID=Europe/Dublin:20250113T100000
DTEND;TZID=Europe/Dublin:20250428T110000
DTSTAMP:20260424T205449
CREATED:20241220T121249Z
LAST-MODIFIED:20250328T162315Z
UID:6289-1736762400-1745838000@krsp.ie
SUMMARY:2025 KRSP Go For Life games
DESCRIPTION:Kilkenny Recreation & Sports Partnership welcomes you all to take part in Go For Life Games. They will be played each Monday morning for 12 weeks at 10am in The Watershed\, Kilkenny \nThese games and activities are fun and a little bit of gentle exercise too! \nJanuary 13th to April 28th (12 weeks). No activities on Feb 3rd; March 17th April 21st (Bank Holiday Mondays). \nPre Booking on https://krsp.ie/krsp-events/ \nFor help with booking and more information call Seamus on 087 3567884 or email seamus@krsp.ie/     Please note: NO cash payment taken on the day. \nWhile you may not have heard of the games\, they are adapted and easy to play games. They’re great fun and are suitable for everyone. The games played are: mat bowling\, boccia and skittles – all easy to learn and have fun at.
URL:https://krsp.ie/event/2025-krsp-go-for-life-games/
LOCATION:The Watershed\, Bohernatounish Road\, Kilkenny
ATTACH;FMTTYPE=image/jpeg:https://krsp.ie/wp-content/uploads/2024/09/shortmat-bowls-measuring.jpg
ORGANIZER;CN="Kilkenny Recreation & Sports Partnership":MAILTO:info@krsp.ie
END:VEVENT
END:VCALENDAR