BEGIN:VCALENDAR
VERSION:2.0
PRODID:-//Kilkenny Recreation &amp; Sports Partnership - ECPv6.15.20//NONSGML v1.0//EN
CALSCALE:GREGORIAN
METHOD:PUBLISH
X-WR-CALNAME:Kilkenny Recreation &amp; Sports Partnership
X-ORIGINAL-URL:https://krsp.ie
X-WR-CALDESC:Events for Kilkenny Recreation &amp; Sports Partnership
REFRESH-INTERVAL;VALUE=DURATION:PT1H
X-Robots-Tag:noindex
X-PUBLISHED-TTL:PT1H
BEGIN:VTIMEZONE
TZID:Europe/Dublin
BEGIN:STANDARD
TZOFFSETFROM:+0000
TZOFFSETTO:+0100
TZNAME:IST
DTSTART:20240331T010000
END:STANDARD
BEGIN:DAYLIGHT
TZOFFSETFROM:+0100
TZOFFSETTO:+0000
TZNAME:GMT
DTSTART:20241027T010000
END:DAYLIGHT
BEGIN:STANDARD
TZOFFSETFROM:+0000
TZOFFSETTO:+0100
TZNAME:IST
DTSTART:20250330T010000
END:STANDARD
BEGIN:DAYLIGHT
TZOFFSETFROM:+0100
TZOFFSETTO:+0000
TZNAME:GMT
DTSTART:20251026T010000
END:DAYLIGHT
BEGIN:STANDARD
TZOFFSETFROM:+0000
TZOFFSETTO:+0100
TZNAME:IST
DTSTART:20260329T010000
END:STANDARD
BEGIN:DAYLIGHT
TZOFFSETFROM:+0100
TZOFFSETTO:+0000
TZNAME:GMT
DTSTART:20261025T010000
END:DAYLIGHT
END:VTIMEZONE
BEGIN:VEVENT
DTSTART;TZID=Europe/Dublin:20250227T190000
DTEND;TZID=Europe/Dublin:20250227T193000
DTSTAMP:20260424T194610
CREATED:20250210T161901Z
LAST-MODIFIED:20250210T162246Z
UID:6872-1740682800-1740684600@krsp.ie
SUMMARY:2025 KRSP Grant Webinar
DESCRIPTION:Kilkenny Recreation and Sports Partnership (KRSP) is holding a free information webinar regarding grants offered by KRSP. This webinar will be delivered by the Community Sport Development Officer Ciara. \nThis webinar will run through the types of grants available\, the terms and conditions and important dates. \nA link will be sent out to those closer to the date.  \nIMPORTANT: Anybody who wishes to apply for the grants offered by Kilkenny Recreation and Sports Partnership MUST attend the information webinar. If a representative from the club or community group does not attend\, they will be ineligible to apply for funding. \nIf you have any further questions you can contact Ciara on 085-8782773 or ciara@krsp.ie \nAttendance at this webinar will be monitored on the night. \n  \nFirst and Surname *You position in Club/ Organisation *Club/ Organisation you are representing *Club/ organisation email *Register
URL:https://krsp.ie/event/2025-krsp-grant-webinar/
LOCATION:Online
ATTACH;FMTTYPE=image/png:https://krsp.ie/wp-content/uploads/2025/02/KRSP-2024-Sport-Grant-Webinar-1000-x-500-px-1.png
ORGANIZER;CN="Kilkenny Recreation & Sports Partnership":MAILTO:info@krsp.ie
END:VEVENT
END:VCALENDAR