BEGIN:VCALENDAR
VERSION:2.0
PRODID:-//Kilkenny Recreation &amp; Sports Partnership - ECPv6.15.20//NONSGML v1.0//EN
CALSCALE:GREGORIAN
METHOD:PUBLISH
X-WR-CALNAME:Kilkenny Recreation &amp; Sports Partnership
X-ORIGINAL-URL:https://krsp.ie
X-WR-CALDESC:Events for Kilkenny Recreation &amp; Sports Partnership
REFRESH-INTERVAL;VALUE=DURATION:PT1H
X-Robots-Tag:noindex
X-PUBLISHED-TTL:PT1H
BEGIN:VTIMEZONE
TZID:Europe/Dublin
BEGIN:STANDARD
TZOFFSETFROM:+0000
TZOFFSETTO:+0100
TZNAME:IST
DTSTART:20240331T010000
END:STANDARD
BEGIN:DAYLIGHT
TZOFFSETFROM:+0100
TZOFFSETTO:+0000
TZNAME:GMT
DTSTART:20241027T010000
END:DAYLIGHT
BEGIN:STANDARD
TZOFFSETFROM:+0000
TZOFFSETTO:+0100
TZNAME:IST
DTSTART:20250330T010000
END:STANDARD
BEGIN:DAYLIGHT
TZOFFSETFROM:+0100
TZOFFSETTO:+0000
TZNAME:GMT
DTSTART:20251026T010000
END:DAYLIGHT
BEGIN:STANDARD
TZOFFSETFROM:+0000
TZOFFSETTO:+0100
TZNAME:IST
DTSTART:20260329T010000
END:STANDARD
BEGIN:DAYLIGHT
TZOFFSETFROM:+0100
TZOFFSETTO:+0000
TZNAME:GMT
DTSTART:20261025T010000
END:DAYLIGHT
END:VTIMEZONE
BEGIN:VEVENT
DTSTART;TZID=Europe/Dublin:20251014T190000
DTEND;TZID=Europe/Dublin:20251021T203000
DTSTAMP:20260424T193803
CREATED:20250929T140936Z
LAST-MODIFIED:20250930T113500Z
UID:8746-1760468400-1761078600@krsp.ie
SUMMARY:2025 KRSP LGBTQ Awareness Training for Sports Clubs in Kilkenny
DESCRIPTION:Who is this for? \nThis is for sports coaches\, committee members\, players\, administrators\, parents and anybody involved in sports clubs in Kilkenny. \nWhat You’ll Do \n\nCreating inclusive and Safe Spaces in Sport\n\nAs an advocate\, you might: \n\nSpeak up when you hear discriminatory language\nBe a point of contact for LGBTQ+ members\nSupport someone who’s coming out.\nEncourage inclusive policies and practices\n\nWhat is an LGBTQ+ Advocate? \nAn LGBTQ+ Advocate is any club member who takes active steps to promote inclusion\, challenge discrimination\, and support LGBTQ+ teammates\, members and friends. You don’t need to be an expert—just someone who cares and is willing to learn \nWhat You’ll Get \nFree training (in person or online); Ongoing support and check-ins; Resources and posters. Connection with other advocates \nFREE training ONLINE or IN PERSON – your choice? Book using the ticket below options below. \n\nOnline training session will be delivered on Tuesday\, October 14th from 7pm to 8.30pm for those who cannot attend the in-person session.\nIn Person training session will be delivered on Tuesday October 21st from 7pm to 8.30pm in Harry’s Bar\, Langton’s\, John Street Kilkenny.
URL:https://krsp.ie/event/2025-krsp-lgbtq-awareness-training-online/
LOCATION:Online
CATEGORIES:Events
ATTACH;FMTTYPE=image/png:https://krsp.ie/wp-content/uploads/2021/05/KRSP-Logo-300px.png
ORGANIZER;CN="Kilkenny Recreation & Sports Partnership":MAILTO:info@krsp.ie
END:VEVENT
END:VCALENDAR