BEGIN:VCALENDAR
VERSION:2.0
PRODID:-//Kilkenny Recreation &amp; Sports Partnership - ECPv6.15.20//NONSGML v1.0//EN
CALSCALE:GREGORIAN
METHOD:PUBLISH
X-WR-CALNAME:Kilkenny Recreation &amp; Sports Partnership
X-ORIGINAL-URL:https://krsp.ie
X-WR-CALDESC:Events for Kilkenny Recreation &amp; Sports Partnership
REFRESH-INTERVAL;VALUE=DURATION:PT1H
X-Robots-Tag:noindex
X-PUBLISHED-TTL:PT1H
BEGIN:VTIMEZONE
TZID:Europe/Dublin
BEGIN:STANDARD
TZOFFSETFROM:+0000
TZOFFSETTO:+0100
TZNAME:IST
DTSTART:20240331T010000
END:STANDARD
BEGIN:DAYLIGHT
TZOFFSETFROM:+0100
TZOFFSETTO:+0000
TZNAME:GMT
DTSTART:20241027T010000
END:DAYLIGHT
BEGIN:STANDARD
TZOFFSETFROM:+0000
TZOFFSETTO:+0100
TZNAME:IST
DTSTART:20250330T010000
END:STANDARD
BEGIN:DAYLIGHT
TZOFFSETFROM:+0100
TZOFFSETTO:+0000
TZNAME:GMT
DTSTART:20251026T010000
END:DAYLIGHT
BEGIN:STANDARD
TZOFFSETFROM:+0000
TZOFFSETTO:+0100
TZNAME:IST
DTSTART:20260329T010000
END:STANDARD
BEGIN:DAYLIGHT
TZOFFSETFROM:+0100
TZOFFSETTO:+0000
TZNAME:GMT
DTSTART:20261025T010000
END:DAYLIGHT
END:VTIMEZONE
BEGIN:VEVENT
DTSTART;TZID=Europe/Dublin:20250124T113000
DTEND;TZID=Europe/Dublin:20250411T120000
DTSTAMP:20260424T233917
CREATED:20241219T110021Z
LAST-MODIFIED:20250304T112905Z
UID:6271-1737718200-1744372800@krsp.ie
SUMMARY:2025 KRSP Multisport Fridays January
DESCRIPTION:Kilkenny Recreation & Sports Partnership will resume this programme on Fridays for 12 weeks starting on January 24th to April 11th. There will be a break then for Easter. \nA variety of activities each Friday that are suitable for all to take part in and a relaxed fun environment with no competitive element is guaranteed. It is essential that care staff attend to support their people. We will have Leinster Rugby on board again and also FAI Kilkenny. \nThe cost for the 12 week programme is €25. This can be paid here online by card. If paying by card is not suitable then you MUST register here using the ‘Pay On The Day’ ticket. We will accept cash payment on the first and second day of the programme. This will be receipted on the day. \nIf you have any further queries then call Seamus on 087 3567884 or email seamus@krsp.ie
URL:https://krsp.ie/event/2025-krsp-multisport-fridays-january/
LOCATION:The Watershed\, Bohernatounish Road\, Kilkenny
ATTACH;FMTTYPE=image/jpeg:https://krsp.ie/wp-content/uploads/2024/05/KRSP.jpg
ORGANIZER;CN="Kilkenny Recreation & Sports Partnership":MAILTO:info@krsp.ie
END:VEVENT
END:VCALENDAR