BEGIN:VCALENDAR
VERSION:2.0
PRODID:-//Kilkenny Recreation &amp; Sports Partnership - ECPv6.15.20//NONSGML v1.0//EN
CALSCALE:GREGORIAN
METHOD:PUBLISH
X-WR-CALNAME:Kilkenny Recreation &amp; Sports Partnership
X-ORIGINAL-URL:https://krsp.ie
X-WR-CALDESC:Events for Kilkenny Recreation &amp; Sports Partnership
REFRESH-INTERVAL;VALUE=DURATION:PT1H
X-Robots-Tag:noindex
X-PUBLISHED-TTL:PT1H
BEGIN:VTIMEZONE
TZID:Europe/Dublin
BEGIN:STANDARD
TZOFFSETFROM:+0000
TZOFFSETTO:+0100
TZNAME:IST
DTSTART:20230326T010000
END:STANDARD
BEGIN:DAYLIGHT
TZOFFSETFROM:+0100
TZOFFSETTO:+0000
TZNAME:GMT
DTSTART:20231029T010000
END:DAYLIGHT
BEGIN:STANDARD
TZOFFSETFROM:+0000
TZOFFSETTO:+0100
TZNAME:IST
DTSTART:20240331T010000
END:STANDARD
BEGIN:DAYLIGHT
TZOFFSETFROM:+0100
TZOFFSETTO:+0000
TZNAME:GMT
DTSTART:20241027T010000
END:DAYLIGHT
BEGIN:STANDARD
TZOFFSETFROM:+0000
TZOFFSETTO:+0100
TZNAME:IST
DTSTART:20250330T010000
END:STANDARD
BEGIN:DAYLIGHT
TZOFFSETFROM:+0100
TZOFFSETTO:+0000
TZNAME:GMT
DTSTART:20251026T010000
END:DAYLIGHT
END:VTIMEZONE
BEGIN:VEVENT
DTSTART;TZID=Europe/Dublin:20240923T093000
DTEND;TZID=Europe/Dublin:20241202T103000
DTSTAMP:20260425T010307
CREATED:20240823T091131Z
LAST-MODIFIED:20240916T092155Z
UID:5170-1727083800-1733135400@krsp.ie
SUMMARY:Callan Community Chair Based Pilates
DESCRIPTION:Kilkenny Recreation & Sports Partnership will deliver Chair Based Pilates/gentle exercise programme specifically for older adults and people with additional needs who are living in the Callan area. We invite everybody to participate. The programme will run from September 23rd to December 2nd with no class on October 28th (mid term / Halloween). \nCome along\, enjoy the company and the Pilates and feel good afterwards. Please note that all participants MUST BE REGISTERED BEFOREHAND – no registrations on the day. You can pay fees with card online or alternatively pay €30 cash on the first and second morning only. Cash payments are receipted.  If you need assistance in booking over the phone please contact seamus@krsp.ie or 087 3567884 or ring the office 056 7794991. \nPLEASE NOTE: participants with additional needs must attend with a carer who must remain with them throughout. \nAs this programme has limited spaces – cancellations will only be granted if requested 5 working days before the programme starts.
URL:https://krsp.ie/event/callan-community-chair-based-pilates/
LOCATION:Droiched Centre\, Callan\, Mill Street\, Callan\, Kilkenny\, R95 V380\, Ireland
CATEGORIES:Events
ATTACH;FMTTYPE=image/png:https://krsp.ie/wp-content/uploads/2024/08/Callan-CBP-image-e1733842314305.png
ORGANIZER;CN="Kilkenny Recreation & Sports Partnership":MAILTO:info@krsp.ie
END:VEVENT
END:VCALENDAR