BEGIN:VCALENDAR
VERSION:2.0
PRODID:-//Kilkenny Recreation &amp; Sports Partnership - ECPv6.15.20//NONSGML v1.0//EN
CALSCALE:GREGORIAN
METHOD:PUBLISH
X-WR-CALNAME:Kilkenny Recreation &amp; Sports Partnership
X-ORIGINAL-URL:https://krsp.ie
X-WR-CALDESC:Events for Kilkenny Recreation &amp; Sports Partnership
REFRESH-INTERVAL;VALUE=DURATION:PT1H
X-Robots-Tag:noindex
X-PUBLISHED-TTL:PT1H
BEGIN:VTIMEZONE
TZID:Europe/Dublin
BEGIN:STANDARD
TZOFFSETFROM:+0000
TZOFFSETTO:+0100
TZNAME:IST
DTSTART:20230326T010000
END:STANDARD
BEGIN:DAYLIGHT
TZOFFSETFROM:+0100
TZOFFSETTO:+0000
TZNAME:GMT
DTSTART:20231029T010000
END:DAYLIGHT
BEGIN:STANDARD
TZOFFSETFROM:+0000
TZOFFSETTO:+0100
TZNAME:IST
DTSTART:20240331T010000
END:STANDARD
BEGIN:DAYLIGHT
TZOFFSETFROM:+0100
TZOFFSETTO:+0000
TZNAME:GMT
DTSTART:20241027T010000
END:DAYLIGHT
BEGIN:STANDARD
TZOFFSETFROM:+0000
TZOFFSETTO:+0100
TZNAME:IST
DTSTART:20250330T010000
END:STANDARD
BEGIN:DAYLIGHT
TZOFFSETFROM:+0100
TZOFFSETTO:+0000
TZNAME:GMT
DTSTART:20251026T010000
END:DAYLIGHT
END:VTIMEZONE
BEGIN:VEVENT
DTSTART;TZID=Europe/Dublin:20240923T173000
DTEND;TZID=Europe/Dublin:20241021T183000
DTSTAMP:20260424T233623
CREATED:20240906T154036Z
LAST-MODIFIED:20240918T141147Z
UID:5407-1727112600-1729535400@krsp.ie
SUMMARY:2024 KRSP Menopause Moves! - Monday
DESCRIPTION:KRSP is happy to bring a new workout opportunity for ladies called Menopause Moves! This tutor led class is for beginner level ladies wanting to increase their fitness and have fun! The tutor who will be leading this class has loads of experience teaching this style of class. \n  \nThis 5 week class will take place every Monday evening from 5:30-6:15pm. Starting on the 23rd of September to the 21st of October.   \n  \nAll participants must pre-register! If you need assistance signing up you can contact Ciara on 085-8782773 or ciara@krsp.ie
URL:https://krsp.ie/event/menopause-moves/
LOCATION:Kilkenny Sport Therapy\, Unit 24\, Hebron Industrial Estate\, Kilkenny\, R95 E0PN\, Ireland
ATTACH;FMTTYPE=image/png:https://krsp.ie/wp-content/uploads/2024/09/Copy-of-Black-Entertainment-Live-Music-Event-Instagram-Post-16-x-9-in-1000-x-500-px-3.png
ORGANIZER;CN="Kilkenny Recreation & Sports Partnership":MAILTO:info@krsp.ie
END:VEVENT
END:VCALENDAR