BEGIN:VCALENDAR
VERSION:2.0
PRODID:-//Kilkenny Recreation &amp; Sports Partnership - ECPv6.15.20//NONSGML v1.0//EN
CALSCALE:GREGORIAN
METHOD:PUBLISH
X-WR-CALNAME:Kilkenny Recreation &amp; Sports Partnership
X-ORIGINAL-URL:https://krsp.ie
X-WR-CALDESC:Events for Kilkenny Recreation &amp; Sports Partnership
REFRESH-INTERVAL;VALUE=DURATION:PT1H
X-Robots-Tag:noindex
X-PUBLISHED-TTL:PT1H
BEGIN:VTIMEZONE
TZID:Europe/Dublin
BEGIN:STANDARD
TZOFFSETFROM:+0000
TZOFFSETTO:+0100
TZNAME:IST
DTSTART:20230326T010000
END:STANDARD
BEGIN:DAYLIGHT
TZOFFSETFROM:+0100
TZOFFSETTO:+0000
TZNAME:GMT
DTSTART:20231029T010000
END:DAYLIGHT
BEGIN:STANDARD
TZOFFSETFROM:+0000
TZOFFSETTO:+0100
TZNAME:IST
DTSTART:20240331T010000
END:STANDARD
BEGIN:DAYLIGHT
TZOFFSETFROM:+0100
TZOFFSETTO:+0000
TZNAME:GMT
DTSTART:20241027T010000
END:DAYLIGHT
BEGIN:STANDARD
TZOFFSETFROM:+0000
TZOFFSETTO:+0100
TZNAME:IST
DTSTART:20250330T010000
END:STANDARD
BEGIN:DAYLIGHT
TZOFFSETFROM:+0100
TZOFFSETTO:+0000
TZNAME:GMT
DTSTART:20251026T010000
END:DAYLIGHT
END:VTIMEZONE
BEGIN:VEVENT
DTSTART;TZID=Europe/Dublin:20240408T093000
DTEND;TZID=Europe/Dublin:20240527T103000
DTSTAMP:20260425T135733
CREATED:20240325T160853Z
LAST-MODIFIED:20240415T085950Z
UID:3074-1712568600-1716805800@krsp.ie
SUMMARY:2024 KRSP Chair Based Pilates Callan April/May
DESCRIPTION:Kilkenny Recreation & Sports Partnership will deliver a Pilates / gentle exercise programme specifically for older adults and people with additional needs who are living in the Callan area. We invite everybody to participate. The programme will run from April 8th to May 27th – 7 weeks total – (no class on May 6th) \nCome along\, enjoy the company and the Pilates and feel good afterwards. Please note that all participants MUST BE REGISTERED BEFOREHAND. You can pay fees with card online or alternatively pay €20 cash on the first morning only. If you need assistance in booking please contact seamus@krsp.ie or 087 3567884. \nPLEASE NOTE: participants with additional needs must attend with a carer who must remain with them throughout.
URL:https://krsp.ie/event/2024-krsp-chair-based-pilates-callan-april-may/
CATEGORIES:Events
END:VEVENT
BEGIN:VEVENT
DTSTART;TZID=Europe/Dublin:20240327T080000
DTEND;TZID=Europe/Dublin:20240531T170000
DTSTAMP:20260425T135733
CREATED:20240411T114025Z
LAST-MODIFIED:20240411T122703Z
UID:3114-1711526400-1717174800@krsp.ie
SUMMARY:2024 KRSP Football For All April
DESCRIPTION:Football For All Programme gives an opportunity to play football to people who may not ordinarily get a chance to play the ‘beautiful game’. Many agencies and groups recognise how football can contribute to the quality of life to all participants. \nA new 8-week session starts on Friday\, April 12th from 2-3pm. The programme will run for 8 weeks to May 31st. Thanks to a partnership between KRSP\, Healthy Kilkenny and Freebooters AFC\, this programme is run at a minimum cost to participants. The programme will take place at Freebooters fabulous astro turf venue at Gaol Road\, Kilkenny R95 TWY6. \nThere are two options for payment. You can pay online here with card (€15 for 8 weeks) or pay cash on the first day (receipted). Option to pay cash on first day of programme only. Must book in advance either way so that we have your emergency details etc. If paying cash first day\,use the FREE ticket option here. \nThe programme will have a coach leading activities each week and ALL ARE WELCOME. More participants\, more fun\, better sessions! The sessions will include warm up\, ball skills\, mini game and cool down. The sessions are suitable for everybody. If you have any queries please call Seamus on 087 3567884 or email seamus@krsp.ie
URL:https://krsp.ie/event/2024-krsp-football-for-all-april/
CATEGORIES:Events
END:VEVENT
END:VCALENDAR