BEGIN:VCALENDAR
VERSION:2.0
PRODID:-//Kilkenny Recreation &amp; Sports Partnership - ECPv6.15.20//NONSGML v1.0//EN
CALSCALE:GREGORIAN
METHOD:PUBLISH
X-WR-CALNAME:Kilkenny Recreation &amp; Sports Partnership
X-ORIGINAL-URL:https://krsp.ie
X-WR-CALDESC:Events for Kilkenny Recreation &amp; Sports Partnership
REFRESH-INTERVAL;VALUE=DURATION:PT1H
X-Robots-Tag:noindex
X-PUBLISHED-TTL:PT1H
BEGIN:VTIMEZONE
TZID:Europe/Dublin
BEGIN:STANDARD
TZOFFSETFROM:+0000
TZOFFSETTO:+0100
TZNAME:IST
DTSTART:20240331T010000
END:STANDARD
BEGIN:DAYLIGHT
TZOFFSETFROM:+0100
TZOFFSETTO:+0000
TZNAME:GMT
DTSTART:20241027T010000
END:DAYLIGHT
BEGIN:STANDARD
TZOFFSETFROM:+0000
TZOFFSETTO:+0100
TZNAME:IST
DTSTART:20250330T010000
END:STANDARD
BEGIN:DAYLIGHT
TZOFFSETFROM:+0100
TZOFFSETTO:+0000
TZNAME:GMT
DTSTART:20251026T010000
END:DAYLIGHT
BEGIN:STANDARD
TZOFFSETFROM:+0000
TZOFFSETTO:+0100
TZNAME:IST
DTSTART:20260329T010000
END:STANDARD
BEGIN:DAYLIGHT
TZOFFSETFROM:+0100
TZOFFSETTO:+0000
TZNAME:GMT
DTSTART:20261025T010000
END:DAYLIGHT
END:VTIMEZONE
BEGIN:VEVENT
DTSTART;TZID=Europe/Dublin:20250617T110000
DTEND;TZID=Europe/Dublin:20250708T120000
DTSTAMP:20260425T052033
CREATED:20250609T103143Z
LAST-MODIFIED:20250612T103633Z
UID:7905-1750158000-1751976000@krsp.ie
SUMMARY:2025 KRSP New Mum Movement!
DESCRIPTION:Kilkenny Recreation & Sports Partnership are delighted to start a new programme for new mums in the North-West of County Kilkenny! This programme is for new mums 6 months postpartum looking to get back into fitness without having to worry about childcare! You can bring your baby with you and keep an eye while exercising and meeting other mums in your area! The babies will not be used in the class so participants are asked to bring them in prams or cradles. \nThis 4 week taster programme will take place in St. Kierans Hall from 11am – 11:45am. There is limited spacing and all participants must sign up before hand. The programme is open to back to fitness\, beginner to fitness or those looking to meet with others in your area! \nIf you have any questions or need help signing up please contact Ciara on 085-8782773 or ciara@krsp.ie
URL:https://krsp.ie/event/2025-krsp-new-mum-movement/
LOCATION:St. Kierans Hall\, Johnstown\, Kilkenny\, E41 EK82
ATTACH;FMTTYPE=image/png:https://krsp.ie/wp-content/uploads/2025/06/KRSP-2025-New-Mum-Movement.png
ORGANIZER;CN="Kilkenny Recreation & Sports Partnership":MAILTO:info@krsp.ie
END:VEVENT
BEGIN:VEVENT
DTSTART;TZID=Europe/Dublin:20250617T120000
DTEND;TZID=Europe/Dublin:20250708T130000
DTSTAMP:20260425T052033
CREATED:20250606T150247Z
LAST-MODIFIED:20250623T115248Z
UID:7895-1750161600-1751979600@krsp.ie
SUMMARY:2025 KRSP Chair Based Pilates - Johnstown
DESCRIPTION:Kilkenny Recreation & Sports Partnership are delighted to start a chair based Pilates class in Johnstown. This class will start at 12pm on the 17th of June for 4 weeks. It is suitable for all ages and is a great\, safe and fun way to be active! It is open to both male and female! \n  \nClasses will take place in St.Kierans Hall. All participants must pre-register and no cash can be taken for this programme. There is limited spaces for this programme and no holding of spaces is allowed. \n  \nIf you need help signing up or have any questions please contact Ciara on 085-8782773 or ciara@krsp.ie
URL:https://krsp.ie/event/2025-krsp-chair-based-pilates-johnstown/
LOCATION:St. Kierans Hall\, Johnstown\, Kilkenny\, E41 EK82
ATTACH;FMTTYPE=image/png:https://krsp.ie/wp-content/uploads/2025/06/KRSP-Chair-Based-Pilates.png
ORGANIZER;CN="Kilkenny Recreation & Sports Partnership":MAILTO:info@krsp.ie
END:VEVENT
BEGIN:VEVENT
DTSTART;TZID=Europe/Dublin:20250704T110000
DTEND;TZID=Europe/Dublin:20250808T000000
DTSTAMP:20260425T052033
CREATED:20250620T131746Z
LAST-MODIFIED:20250620T151043Z
UID:7984-1751626800-1754611200@krsp.ie
SUMMARY:KRSP Get Rowing\, Get Lifting\, programme
DESCRIPTION:This is a pilot programme for adults with additional needs. It is brought to you by Kilkenny Recreation & Sports Partnership in partnership with Rowing Ireland and Weightlifting Ireland. \nThe programme will run for 6 weeks in the Watershed Fitness Studio\, Kilkenny and will be at 11am each Friday morning. It will start on Friday July 4th and finish on Friday August 8th. We are partnering with Rowing Ireland and Weightlifting Ireland on this programme and their coaches will deliver the programme.  The cost of the programme for participants is €20 for the 6 weeks. \nThe programme is open to adults with any disability. They must attend either individually with a care staff member or as a group with a care staff member on site at all times. \nThe aim of the programme is to empower and enable participants to use rowing machines (rowing ergometers) and to be able to use basic weightlifting equipment when they visit any gym with this equipment. The Watershed have very kindly let us store the rowing machines on site for the duration of the programme. \nPLEASE NOTE THAT SPACES ON THIS PROGRAMME ARE VERY LIMITED. ONLY BOOK IF YOU ARE SURE OF ATTENDING ALL OF THE PROGRAMME.
URL:https://krsp.ie/event/krsp-get-rowing-get-lifting-programme/
LOCATION:The Watershed\, Bohernatounish Road\, Kilkenny
CATEGORIES:Activities for adults with additional needs,Events,Inclusive Summer Programme
ATTACH;FMTTYPE=image/png:https://krsp.ie/wp-content/uploads/2021/05/KRSP-Logo.png
ORGANIZER;CN="Kilkenny Recreation & Sports Partnership":MAILTO:info@krsp.ie
END:VEVENT
BEGIN:VEVENT
DTSTART;TZID=Europe/Dublin:20250707T093000
DTEND;TZID=Europe/Dublin:20250801T130000
DTSTAMP:20260425T052033
CREATED:20250225T144904Z
LAST-MODIFIED:20250617T160634Z
UID:6948-1751880600-1754053200@krsp.ie
SUMMARY:2025 KRSP Inclusive Summer Programme - Youth Volunteer Application Form
DESCRIPTION:Youth volunteer application MUST BE COMPLETED BY PARENT/GUARDIAN on behalf of the youth volunteer.\nOur Inclusive Summer Camp programme caters for children who require additional support to engage in activities\, this may be because of a physical\, sensory or a learning disability. The inclusive summer camps gives children a chance to take part in a fun summer camp in a supported environment. \nKRSP is committed to the safe recruitment and the protection of children and vulnerable persons (see our Child Safeguarding Policy on www.krsp.ie). Youth volunteers must be must be aged 15-17 years old. Volunteers aged 16 and 17 will be Garda vetted by KRSP / Sport Ireland with parental/guardian consent. Volunteers selected must be available for training which will take place on June 30th unless they were a previous volunteer with KRSP. Volunteers (aged 16 and 17) will also receive Safeguarding 1 training (with parental/guardian consent) or be asked to provide evidence that they have undertaken Safeguarding 1. \nIndividuals selected will be made aware of Kilkenny Recreation & Sports Partnerships Code of Conduct (see KRSP Policies on www.krsp.ie). \nUnder the supervision of KRSP staff and Activity Leaders\, the role of the Youth Volunteer will be to encourage enjoyment\, fun & plenty of smiles while providing assistance to children to ensure maximum engagement in activities. KRSP runs 4 separate Inclusive Summer Camps throughout the Summer. In the application\, please indicate the camps the youth volunteer will be available for. PLEASE  VOLUNTEER FOR AS MANY CAMPS AS POSSIBLE – THE MORE VOLUNTEER TIME – THE MORE CHILDREN GET TO ENJOY THE CAMPS! \nIn return the youth volunteer will receive training\, be supported and mentored by KRSP staff and activity leaders\, and have a rewarding and fun experience while supporting children with additional needs to have a fun summer camp. \nFor more information contact Seamus 087 356 7884 or email seamus@krsp.ie
URL:https://krsp.ie/event/2025-krsp-inclusive-summer-programme-youth-volunteer-application-form/
LOCATION:Various venues in Kilkenny
CATEGORIES:Events,Inclusive Summer Programme,Volunteering
ATTACH;FMTTYPE=image/png:https://krsp.ie/wp-content/uploads/2025/02/Yellow-Pink-Playful-And-Colorful-Kids-Summer-Camp-Flyer-1000-x-500-px.png
ORGANIZER;CN="Kilkenny Recreation & Sports Partnership":MAILTO:info@krsp.ie
END:VEVENT
BEGIN:VEVENT
DTSTART;TZID=Europe/Dublin:20250707T093000
DTEND;TZID=Europe/Dublin:20250801T130000
DTSTAMP:20260425T052033
CREATED:20250225T144936Z
LAST-MODIFIED:20250522T153206Z
UID:6954-1751880600-1754053200@krsp.ie
SUMMARY:2025 KRSP Inclusive Summer Programme - Adult Volunteer Application
DESCRIPTION:Volunteer application for those over the age of 18 years.\nOur Inclusive Summer Camp programme caters for children who require additional support to engage in activities\, this may be because of a physical\, sensory or a learning disability. The inclusive summer camps gives children a chance to take part in a fun summer camp in a supported environment. \nKRSP is committed to the safe recruitment and the protection of children and vulnerable persons (see our Child Safeguarding Policy on www.krsp.ie). Adult volunteers must be aged 18 years and over. Volunteers will be Garda vetted by KRSP / Sport Ireland. Volunteers selected must be available for training which will take place on June 30th unless they were a previous volunteer with KRSP. Volunteers will also receive Safeguarding 1 training or be asked to provide evidence that they have undertaken Safeguarding 1. \nUnder the supervision of KRSP staff and Activities Leaders\, the role of the Adult Volunteer will be to encourage enjoyment\, fun & plenty of smiles while providing assistance to children to ensure maximum engagement in activities. This will take place in line with our Code of Conduct (see our Code of Conduct for Sports Leaders on www.krsp.ie). \n KRSP runs 4 separate Inclusive Summer Camps throughout the Summer. In the application\, please indicate which camps you will be available for. PLEASE VOLUNTEER FOR AS MANY CAMPS AS POSSIBLE – THE MORE VOLUNTEER TIME – THE MORE CHILDREN GET TO ENJOY THE CAMPS! \nIn return the adult volunteer will receive training\, be mentored and supported by KRSP staff and activity leaders\, and have a rewarding and rewarding experience while supporting children with additional needs to have a fun summer camp. \nFor more information contact Seamus 087 356 7884 or email seamus@krsp.ie
URL:https://krsp.ie/event/2025-krsp-inclusive-summer-programme-adult-volunteer-application/
LOCATION:Various venues in Kilkenny
CATEGORIES:Events,Inclusive Summer Programme,Volunteering
ATTACH;FMTTYPE=image/png:https://krsp.ie/wp-content/uploads/2025/02/Yellow-Pink-Playful-And-Colorful-Kids-Summer-Camp-Flyer-1000-x-500-px-1.png
ORGANIZER;CN="Kilkenny Recreation & Sports Partnership":MAILTO:info@krsp.ie
END:VEVENT
BEGIN:VEVENT
DTSTART;TZID=Europe/Dublin:20250707T140000
DTEND;TZID=Europe/Dublin:20250711T150000
DTSTAMP:20260425T052033
CREATED:20250620T144009Z
LAST-MODIFIED:20250708T095152Z
UID:7993-1751896800-1752246000@krsp.ie
SUMMARY:2025 KRSP Give It A Try Week July 7th to 11th
DESCRIPTION:Come along and GIVE IT A TRY! \nKilkenny Recreation & Sports Partnership present a week of activities for adults (18+) with additional needs to ‘try out’. Whether you are already doing some activities with us or whether it’s your first time to engage with us\, you are more than welcome to come along and Give It A Try Week. \nMonday July 7th – Pilates in the Watershed Studio from 2-3pm. \nWednesday July 9th – Adapted Cycling for all on the Watershed Athletics track from 2-3pm. Come along and try our new trikes! \nThursday July 10th – morning – Gentle Rugby with Leinster Rugby like we did during Multisport Fridays – only outdoors! Venue Watershed and time 11am to 12pm. \nThursday July 10th –  afternoon – Community Walk for all with Gina – just like our walking programme that runs throughout the year. time 2-3pm. Meet at Canal Square. \nFriday July 11th – Easy football fun and skills on the Watershed astro from 2-3pm. Venue: The Watershed \nWe have tried to keep the cost to a minimum so that as many of you as possible can attend all the events. The total cost for ALL 5 activities will be €15. You can pay this online or by cash (receipted) on Wednesday 9th or Thursday 10th of July. Please note there is no activity on Tuesday. There are two activities on Thursday. \nWhen you are booking\, please\, tick the events you are going to attend. Please note there is unlimited availability for 3 events: Rugby and Community Walk on Thursday and for Football For All on Friday. Limits will apply to all other tickets. \nONLY BOOK THESE EVENTS IF YOU ARE 100% SURE OF ATTENDING THEM. SPACES WILL BE GIVEN ON FIRST COME\, FIRST SERVED BASIS. \nPlease note that adults who are part of any disability service group must be accompanied by care staff. The care staff must remain with the group and stay on site at all times during the activities. Thanks for your co-operation with this.
URL:https://krsp.ie/event/2025-krsp-give-it-a-try-week-july-7th-to-11th/
LOCATION:Various venues in Kilkenny
CATEGORIES:Activities for adults with additional needs,Events,Inclusive Summer Programme
ATTACH;FMTTYPE=image/png:https://krsp.ie/wp-content/uploads/2025/06/Give-It-A-Try-Week-2025.png
ORGANIZER;CN="Kilkenny Recreation & Sports Partnership":MAILTO:info@krsp.ie
END:VEVENT
BEGIN:VEVENT
DTSTART;TZID=Europe/Dublin:20250714T093000
DTEND;TZID=Europe/Dublin:20250801T120000
DTSTAMP:20260425T052033
CREATED:20250501T140955Z
LAST-MODIFIED:20250625T145334Z
UID:7536-1752485400-1754049600@krsp.ie
SUMMARY:2025 KRSP Inclusive Summer Camps Programme
DESCRIPTION:BEFORE COMPLETING THE REGISTRATION FORM FOR KRSP SUMMER CAMPS\, PLEASE READ ALL OF THIS INFORMATION CAREFULLY \nKilkenny Recreation & Sports Partnership is delighted to announce details of our 2025 Inclusive Summer Programme for children with additional needs. Supported by KRSP staff\, tutors\, coaches\, and a cohort of great volunteers. \nAGES FOR CHILDREN ATTENDING CAMP 6 TO 17 YEARS and must be attending school. \nFor Week 1 and Week 2\, we request that parents/guardians select one camp only. By doing this\, as many children as possible will have at least one summer camp week. For Week 3 our swimming camp – these spaces will be given on a first come\, first served basis. When booking the swim camp\, please book your child into the appropriate level camp (see guidelines below). \nThanks to generous support from Kilkenny Rugby Club\, most of the activities in Week 1 and Week 2 will be hosted on their premises in Foulkstown\, Kilkenny R95 CH68 from 10am to 12.30pm each day. Some activities\, such as tennis in Kilkenny Tennis Club\, will have a slightly different time (11am to 1pm)\, but you will be reminded of these beforehand. KRSP will have staff\, coaches and volunteers on hand each day at all the camps to support your child. \nWeek 1 – July 14th to 18th from 10am to 12.30pm. \nWeek 2 – July 21st to 25th from 10am to 12.30pm \nActivities will selected from the following: – athletics\, rugby (with Leinster Rugby)\, soccer (with FAI Development Officer); Cycling (On Your Rothar) and Pitch & Putt (with Pitch and Putt Ireland)\, Kayaking (with Kilkenny Aqua Canoe Club)\, arts and crafts and orienteering / playground activities in Kilkenny Castle Park. All activities at very gentle\, inclusive\, and fun level with no pressure on participants to ‘perform’. \nWeek 3 – July 28th to August 1st – Children’s Swimming programme (for those aged 6-17 years) each morning in the Watershed with KRSP Swim Teacher\, KRSP staff and volunteers. KRSP will have volunteers in the water with your child to support them. Guided by the information below\, please pick ONE session. Each session will last for 45-minutes: \n\n10am to 10.45am (beginners in the learner pool – has just started swimming lessons\, is six and attending school).\n11am to 11.45am (intermediate in the learner pool – has done some swimming lessons and is making progress).\n12pm to 12.45pm (advanced in the main pool – can swim and can do so in the main pool in the Watershed).\n\nALL participants on all our summer programmes MUST be pre-registered online for the camp. Strictly no registrations on the day and no cash payments. Parent / Guardian must fully complete the application on behalf of the participant. If you need support to register online contact Seamus Nugent on 087 3567884. \nPLEASE NOTE \n\nWater and refreshments will not be provided for participants – please ensure your son/daughter has enough drinks and snacks for the camp.\nShould we be so lucky to have a sunny\, warm summer\, please ensure that sun cream is applied before attending the activities. Please ensure that your child is dressed appropriately for the weather e.g. sun hats\, raincoats etc. Please also ensure that your child’s bag and clothing is clearly labelled on day one and that it is collected each day at the end of the session.\nChildren will be signed in and signed out each day at camp. Please bear with us as we go through this thoroughly to ensure the safety of your child.\nWe may or may not know your child. Therefore\, when booking\, it is important to advise us of the disability your child has. Please include any triggers or things that might need to be avoided and anything that your child likes/dislikes. This will help us to enhance your child’s enjoyment of the programme.  If there are none\, then please type NONE – please note these fields are mandatory.  However\, leaving these spaces with NONE on the registration can make things a little more difficult for us!\nKRSP reserves the right\, at our discretion\, to amend\, cancel or shorten the daily sessions for whatever reason e.g. hot weather or inclement weather. You will be contacted by text message if this should be necessary.\nWhere KRSP provides equipment\, we will ensure it is sanitised pre & post activity.\nKRSP staff\, tutors\, coaches\, or volunteers are trained to provide an enjoyable sports-based\, fun camp for children with additional needs. Please note that we are not trained to provide for the intimate care needs of participants. If your son/daughter needs intimate care assistance\, please ensure that a suitable person attends with the child on site to provide this.\nPlease also note that KRSP staff\, tutors\, coaches\, or volunteers are NOT trained and not allowed to administer any medication. If your child needs medication\, please ensure that a suitable person is on hand to administer the medication at the time it is required.\n\nPlease contact Seamus (087 3567884) to discuss arrangements.
URL:https://krsp.ie/event/2025-krsp-inclusive-summer-camps-programme/
LOCATION:Various venues in Kilkenny
CATEGORIES:Events,Inclusive Summer Programme
ATTACH;FMTTYPE=image/png:https://krsp.ie/wp-content/uploads/2025/05/Summer-Programme-2025.png
ORGANIZER;CN="Kilkenny Recreation & Sports Partnership":MAILTO:info@krsp.ie
END:VEVENT
BEGIN:VEVENT
DTSTART;TZID=Europe/Dublin:20250715T110000
DTEND;TZID=Europe/Dublin:20250805T130000
DTSTAMP:20260425T052033
CREATED:20250708T084200Z
LAST-MODIFIED:20250714T145556Z
UID:8057-1752577200-1754398800@krsp.ie
SUMMARY:2025 KRSP Chair Based Pilates Johnstown - July
DESCRIPTION:Kilkenny Recreation & Sports Partnership are delighted to start a chair based pilates class in Johnstown.\nThere is two class times to choose from: 11am and 12pm. The classes will start on the 15th of July and will run for 4 weeks finishing on the 5th of August. It is suitable for all ages and is a great\, safe and fun way to be active! It is open to both male and female. \nClasses will take place in St.Kierans Hall. All participants must pre-register and no cash can be taken for this programme. There is limited spaces for this programme and no holding of spaces is allowed. \n  \nIf you need help signing up or have any questions please contact Ciara on 085-8782773 or ciara@krsp.ie
URL:https://krsp.ie/event/2025-krsp-chair-based-pilates-johnstown-july/
LOCATION:St. Kierans Hall\, Johnstown\, Kilkenny\, E41 EK82
ATTACH;FMTTYPE=image/png:https://krsp.ie/wp-content/uploads/2025/06/KRSP-Chair-Based-Pilates.png
ORGANIZER;CN="Kilkenny Recreation & Sports Partnership":MAILTO:info@krsp.ie
END:VEVENT
END:VCALENDAR