BEGIN:VCALENDAR
VERSION:2.0
PRODID:-//Kilkenny Recreation &amp; Sports Partnership - ECPv6.15.20//NONSGML v1.0//EN
CALSCALE:GREGORIAN
METHOD:PUBLISH
X-WR-CALNAME:Kilkenny Recreation &amp; Sports Partnership
X-ORIGINAL-URL:https://krsp.ie
X-WR-CALDESC:Events for Kilkenny Recreation &amp; Sports Partnership
REFRESH-INTERVAL;VALUE=DURATION:PT1H
X-Robots-Tag:noindex
X-PUBLISHED-TTL:PT1H
BEGIN:VTIMEZONE
TZID:Europe/Dublin
BEGIN:STANDARD
TZOFFSETFROM:+0000
TZOFFSETTO:+0100
TZNAME:IST
DTSTART:20240331T010000
END:STANDARD
BEGIN:DAYLIGHT
TZOFFSETFROM:+0100
TZOFFSETTO:+0000
TZNAME:GMT
DTSTART:20241027T010000
END:DAYLIGHT
BEGIN:STANDARD
TZOFFSETFROM:+0000
TZOFFSETTO:+0100
TZNAME:IST
DTSTART:20250330T010000
END:STANDARD
BEGIN:DAYLIGHT
TZOFFSETFROM:+0100
TZOFFSETTO:+0000
TZNAME:GMT
DTSTART:20251026T010000
END:DAYLIGHT
BEGIN:STANDARD
TZOFFSETFROM:+0000
TZOFFSETTO:+0100
TZNAME:IST
DTSTART:20260329T010000
END:STANDARD
BEGIN:DAYLIGHT
TZOFFSETFROM:+0100
TZOFFSETTO:+0000
TZNAME:GMT
DTSTART:20261025T010000
END:DAYLIGHT
END:VTIMEZONE
BEGIN:VEVENT
DTSTART;TZID=Europe/Dublin:20250811T103000
DTEND;TZID=Europe/Dublin:20250901T123000
DTSTAMP:20260425T022916
CREATED:20250723T121817Z
LAST-MODIFIED:20250723T143205Z
UID:8153-1754908200-1756729800@krsp.ie
SUMMARY:2025 KRSP HerOutdoors Inclusion Programme
DESCRIPTION:Content is protected.
URL:https://krsp.ie/event/2025-krsp-heroutdoors-inclusion-programme/
LOCATION:Castlecomer Discovery Park\, The Estate Yard\, Ardra\, Castlecomer\, Kilkenny\, R95 HY7X\, Ireland
ORGANIZER;CN="Kilkenny Recreation & Sports Partnership":MAILTO:info@krsp.ie
END:VEVENT
BEGIN:VEVENT
DTSTART;TZID=Europe/Dublin:20250825T190000
DTEND;TZID=Europe/Dublin:20250902T210000
DTSTAMP:20260425T022916
CREATED:20250728T124618Z
LAST-MODIFIED:20250728T154436Z
UID:8233-1756148400-1756846800@krsp.ie
SUMMARY:2025 KRSP HerOutdoors - Adult Get Her Kayaking
DESCRIPTION:4 session kayaking beginner skills course will run in conjunction with Graiguenamanagh Canoe Club members and instructors! \nThis course will be run on 25th and 26 of August and the 1st and 2nd of September from 7 to 9pm. Please arrive 15minutes early to get kitted out! Based at Graiguenamanagh Canoe Club premises at Graiguenamanagh Boat Club. \nParticipants will be introduced to kayaking and have fun! Progression to the club will be available! \nThis programme is open to adult women 18+ years \nParticipants MUST attend the first session as this runs through the safety! If you are unable to make the first session you cannot partake in the following sessions!! \n• ALL participants MUST pre-register online. If you need support to register online contact Ciara 085-8782773/ciara@krsp.ie
URL:https://krsp.ie/event/2025-krsp-heroutdoors-get-her-kayaking/
LOCATION:Graiguenamanagh Canoe Club\, The Quay\, Graiguenamanagh-Tinnahinch\, Co Kilkenny\, Ireland
ATTACH;FMTTYPE=image/png:https://krsp.ie/wp-content/uploads/2025/07/HerOutdoors-Programme-2025.png
ORGANIZER;CN="Kilkenny Recreation & Sports Partnership":MAILTO:info@krsp.ie
END:VEVENT
BEGIN:VEVENT
DTSTART;TZID=Europe/Dublin:20250828T170000
DTEND;TZID=Europe/Dublin:20250904T190000
DTSTAMP:20260425T022916
CREATED:20250717T160531Z
LAST-MODIFIED:20250818T141447Z
UID:8125-1756400400-1757012400@krsp.ie
SUMMARY:2025 KRSP HerOutdoors - Intro to Mountain Biking
DESCRIPTION:HerOutdoors is a week designated to encouraging women and girls to get active in the outdoors! This year we have a multiple programmes and courses available to get girls out and moving! HerOutdoors week is the 11th – 17th of August. \nThis programme is available to: \n\nTeenage Girls from 5-6pm \nAdult Women (18+) from 6-7pm\n\nThe 2 session intro programme will be conducted by a trained instructor. This is open to complete beginners! It will take place in Castlecomer Discovery Park.  \n\nThursday 28th August + 4th of September\n\nAll equipment and bikes will be provided.  \nIf you have any questions please contact Ciara on 085-8782773 or ciara@krsp.ie
URL:https://krsp.ie/event/2025-krsp-heroutdoors-intro-to-mountain-biking/
LOCATION:Castlecomer Discovery Park\, The Estate Yard\, Ardra\, Castlecomer\, Kilkenny\, R95 HY7X\, Ireland
ATTACH;FMTTYPE=image/png:https://krsp.ie/wp-content/uploads/2025/07/HerOutdoors-Programme-2025.png
ORGANIZER;CN="Kilkenny Recreation & Sports Partnership":MAILTO:info@krsp.ie
END:VEVENT
BEGIN:VEVENT
DTSTART;TZID=Europe/Dublin:20250911T183000
DTEND;TZID=Europe/Dublin:20250911T213000
DTSTAMP:20260425T022916
CREATED:20250821T132852Z
LAST-MODIFIED:20250821T133008Z
UID:8468-1757615400-1757626200@krsp.ie
SUMMARY:2025 KRSP Safeguarding 1: 11th of September
DESCRIPTION:This Safeguarding 1 ‘Child Welfare and Protection in Sport’ training is a 3 hour basic awareness course\, looking at how we can keep adults and young people safe and happy within the club environment. This course is open to sports leaders\, coaches\, parents\, children’s officers and other adults involved in the organisation of sport for young people. This module will help to create and maintain a safe and fun environment for young people within the sports club or organisation. Attendees must be over 18 years of age. \nThe Sport Ireland online Safeguarding 1 Workshop (via Zoom) is an interactive course which requires participants to have : \n\nGood internet connection to allow you to have a video / take part in group discussion.\nAccess to email – Zoom link and course materials will be sent out to participants prior to course date.\n\nTo gain accreditation\, it is essential to complete the whole course. \nThe online course will be delivered via Zoom. Sport Ireland certificate will be issued by e-mail and participant details are registered with Sport Ireland’s National Database. \nShould you require any further information on accessing the online safeguarding workshop feel free to contact KRSP at info@krsp.ie or 056-7794991
URL:https://krsp.ie/event/2025-krsp-safeguarding-1-11th-of-september/
LOCATION:Online
ATTACH;FMTTYPE=image/png:https://krsp.ie/wp-content/uploads/2024/05/E15-1000-x-500-px-1.png
ORGANIZER;CN="Kilkenny Recreation & Sports Partnership":MAILTO:info@krsp.ie
END:VEVENT
BEGIN:VEVENT
DTSTART;TZID=Europe/Dublin:20250922T183000
DTEND;TZID=Europe/Dublin:20250922T213000
DTSTAMP:20260425T022916
CREATED:20250910T151342Z
LAST-MODIFIED:20250910T151342Z
UID:8565-1758565800-1758576600@krsp.ie
SUMMARY:2025 KRSP Safeguarding 1: 22nd of September – St. Josephs AC
DESCRIPTION:Content is protected.
URL:https://krsp.ie/event/2025-krsp-safeguarding-1-22nd-of-september-st-josephs-ac/
ORGANIZER;CN="Kilkenny Recreation & Sports Partnership":MAILTO:info@krsp.ie
END:VEVENT
BEGIN:VEVENT
DTSTART;TZID=Europe/Dublin:20250924T153000
DTEND;TZID=Europe/Dublin:20251217T173000
DTSTAMP:20260425T022916
CREATED:20250814T095819Z
LAST-MODIFIED:20251006T130845Z
UID:8335-1758727800-1765992600@krsp.ie
SUMMARY:2025 KRSP Swim Buddy application form
DESCRIPTION:Kilkenny Recreation & Sports Partnership organise a programme of supported swim lessons for children with disabilities. This swim programme caters for children who require additional support in the water while learning to swim\, this may be because of physical\, sensory or a learning disability. The programme gives children a chance to avail of swim lessons in a supported environment. \nThe classes run each Wednesday from 3.30pm to 5.30pm in 10/12 week block from October to December and January to Easter and finally a six week block from Easter to end of school term. Volunteers will be matched up to attend either one or two sessions per week depending on numbers volunteering. \nThe focus of the lessons is to ensure the children have fun and become comfortable in the pool and relaxed in the water! Once the child is relaxed in the water\, the learning begins! \nTo ensure that all children get the attention they need\, KRSP run a volunteer programme for swim buddies. Our volunteer swim buddies are transition year students in local secondary schools and often participate as part of their An Gaisce award. It is also a useful way of helping to build your early stage CV. \nRole of the Volunteer Swim Buddy \n\nTo provide one to one assistance to children with additional needs in the water.\nVolunteers must be able to commit to attend the majority of the classes.\nEncouraging enjoyment and fun in the water is the volunteer’s most important role.\n\nWhat is needed for the role? \n\nA willingness to help others – bring your personality to the child.\nVolunteers must be comfortable being in the water (not necessary to be a brilliant swimmer!) and an interest in swimming or aquatics would be an advantage!\nVolunteers should be willing to put children at ease and be encouraging to all!\n\nYouth volunteer application MUST BE completed by a parent / guardian on behalf of the youth volunteer. KRSP will only communicate with parents / guardians on this programme. \nYouth volunteers must be aged 15-17 years old. Those aged 16/17 will be Garda vetted with parental/guardian consent. While the Garda Vetting process takes place\, those who are 15 years old will join the programme in September. Those not 16 until after Christmas\, or those already vetted by KRSP will join the programme in January. This will ensure that the programme is up and running on time for the young swimmers. \nKRSP staff will be on hand at all times to help\, encourage and manage the volunteer group. We are always on deck for every minute of the programme to help. \nThis programme is funded by Healthy Ireland. The Healthy Ireland Fund is supported by the Department of Health.
URL:https://krsp.ie/event/2025-krsp-swim-buddy-application-form/
LOCATION:The Watershed\, Bohernatounish Road\, Kilkenny
ATTACH;FMTTYPE=image/png:https://krsp.ie/wp-content/uploads/2024/08/Event-page-images-1.png
ORGANIZER;CN="Kilkenny Recreation & Sports Partnership":MAILTO:info@krsp.ie
END:VEVENT
BEGIN:VEVENT
DTSTART;TZID=Europe/Dublin:20250924T153000
DTEND;TZID=Europe/Dublin:20251217T173000
DTSTAMP:20260425T022916
CREATED:20250814T113037Z
LAST-MODIFIED:20260401T101526Z
UID:8338-1758727800-1765992600@krsp.ie
SUMMARY:KRSP Supported Swimming Lessons - September 2025
DESCRIPTION:Content is protected.
URL:https://krsp.ie/event/krsp-supported-swimming-lessons-september-2025/
LOCATION:The Watershed\, Bohernatounish Road\, Kilkenny
ORGANIZER;CN="Kilkenny Recreation & Sports Partnership":MAILTO:info@krsp.ie
END:VEVENT
END:VCALENDAR