BEGIN:VCALENDAR
VERSION:2.0
PRODID:-//Kilkenny Recreation &amp; Sports Partnership - ECPv6.15.20//NONSGML v1.0//EN
CALSCALE:GREGORIAN
METHOD:PUBLISH
X-ORIGINAL-URL:https://krsp.ie
X-WR-CALDESC:Events for Kilkenny Recreation &amp; Sports Partnership
REFRESH-INTERVAL;VALUE=DURATION:PT1H
X-Robots-Tag:noindex
X-PUBLISHED-TTL:PT1H
BEGIN:VTIMEZONE
TZID:Europe/Dublin
BEGIN:STANDARD
TZOFFSETFROM:+0000
TZOFFSETTO:+0100
TZNAME:IST
DTSTART:20240331T010000
END:STANDARD
BEGIN:DAYLIGHT
TZOFFSETFROM:+0100
TZOFFSETTO:+0000
TZNAME:GMT
DTSTART:20241027T010000
END:DAYLIGHT
BEGIN:STANDARD
TZOFFSETFROM:+0000
TZOFFSETTO:+0100
TZNAME:IST
DTSTART:20250330T010000
END:STANDARD
BEGIN:DAYLIGHT
TZOFFSETFROM:+0100
TZOFFSETTO:+0000
TZNAME:GMT
DTSTART:20251026T010000
END:DAYLIGHT
BEGIN:STANDARD
TZOFFSETFROM:+0000
TZOFFSETTO:+0100
TZNAME:IST
DTSTART:20260329T010000
END:STANDARD
BEGIN:DAYLIGHT
TZOFFSETFROM:+0100
TZOFFSETTO:+0000
TZNAME:GMT
DTSTART:20261025T010000
END:DAYLIGHT
END:VTIMEZONE
BEGIN:VEVENT
DTSTART;TZID=Europe/Dublin:20250924T153000
DTEND;TZID=Europe/Dublin:20251217T173000
DTSTAMP:20260425T010344
CREATED:20250814T095819Z
LAST-MODIFIED:20251006T130845Z
UID:8335-1758727800-1765992600@krsp.ie
SUMMARY:2025 KRSP Swim Buddy application form
DESCRIPTION:Kilkenny Recreation & Sports Partnership organise a programme of supported swim lessons for children with disabilities. This swim programme caters for children who require additional support in the water while learning to swim\, this may be because of physical\, sensory or a learning disability. The programme gives children a chance to avail of swim lessons in a supported environment. \nThe classes run each Wednesday from 3.30pm to 5.30pm in 10/12 week block from October to December and January to Easter and finally a six week block from Easter to end of school term. Volunteers will be matched up to attend either one or two sessions per week depending on numbers volunteering. \nThe focus of the lessons is to ensure the children have fun and become comfortable in the pool and relaxed in the water! Once the child is relaxed in the water\, the learning begins! \nTo ensure that all children get the attention they need\, KRSP run a volunteer programme for swim buddies. Our volunteer swim buddies are transition year students in local secondary schools and often participate as part of their An Gaisce award. It is also a useful way of helping to build your early stage CV. \nRole of the Volunteer Swim Buddy \n\nTo provide one to one assistance to children with additional needs in the water.\nVolunteers must be able to commit to attend the majority of the classes.\nEncouraging enjoyment and fun in the water is the volunteer’s most important role.\n\nWhat is needed for the role? \n\nA willingness to help others – bring your personality to the child.\nVolunteers must be comfortable being in the water (not necessary to be a brilliant swimmer!) and an interest in swimming or aquatics would be an advantage!\nVolunteers should be willing to put children at ease and be encouraging to all!\n\nYouth volunteer application MUST BE completed by a parent / guardian on behalf of the youth volunteer. KRSP will only communicate with parents / guardians on this programme. \nYouth volunteers must be aged 15-17 years old. Those aged 16/17 will be Garda vetted with parental/guardian consent. While the Garda Vetting process takes place\, those who are 15 years old will join the programme in September. Those not 16 until after Christmas\, or those already vetted by KRSP will join the programme in January. This will ensure that the programme is up and running on time for the young swimmers. \nKRSP staff will be on hand at all times to help\, encourage and manage the volunteer group. We are always on deck for every minute of the programme to help. \nThis programme is funded by Healthy Ireland. The Healthy Ireland Fund is supported by the Department of Health.
URL:https://krsp.ie/event/2025-krsp-swim-buddy-application-form/
LOCATION:The Watershed\, Bohernatounish Road\, Kilkenny
ATTACH;FMTTYPE=image/png:https://krsp.ie/wp-content/uploads/2024/08/Event-page-images-1.png
ORGANIZER;CN="Kilkenny Recreation & Sports Partnership":MAILTO:info@krsp.ie
END:VEVENT
BEGIN:VEVENT
DTSTART;TZID=Europe/Dublin:20250924T153000
DTEND;TZID=Europe/Dublin:20251217T173000
DTSTAMP:20260425T010344
CREATED:20250814T113037Z
LAST-MODIFIED:20260401T101526Z
UID:8338-1758727800-1765992600@krsp.ie
SUMMARY:KRSP Supported Swimming Lessons - September 2025
DESCRIPTION:Content is protected.
URL:https://krsp.ie/event/krsp-supported-swimming-lessons-september-2025/
LOCATION:The Watershed\, Bohernatounish Road\, Kilkenny
ORGANIZER;CN="Kilkenny Recreation & Sports Partnership":MAILTO:info@krsp.ie
END:VEVENT
BEGIN:VEVENT
DTSTART;TZID=Europe/Dublin:20251002T183000
DTEND;TZID=Europe/Dublin:20251002T213000
DTSTAMP:20260425T010344
CREATED:20250821T103511Z
LAST-MODIFIED:20251001T152758Z
UID:8457-1759429800-1759440600@krsp.ie
SUMMARY:2025 KRSP Safeguarding 1: 2nd of October
DESCRIPTION:This Safeguarding 1 ‘Child Welfare and Protection in Sport’ training is a 3 hour basic awareness course\, looking at how we can keep adults and young people safe and happy within the club environment. This course is open to sports leaders\, coaches\, parents\, children’s officers and other adults involved in the organisation of sport for young people. This module will help to create and maintain a safe and fun environment for young people within the sports club or organisation. Attendees must be over 18 years of age. \nThe Sport Ireland online Safeguarding 1 Workshop (via Zoom) is an interactive course which requires participants to have : \n\nGood internet connection to allow you to have a video / take part in group discussion.\nAccess to email – Zoom link and course materials will be sent out to participants prior to course date.\n\nTo gain accreditation\, it is essential to complete the whole course. \nThe online course will be delivered via Zoom. Sport Ireland certificate will be issued by e-mail and participant details are registered with Sport Ireland’s National Database. \nShould you require any further information on accessing the online safeguarding workshop feel free to contact KRSP at info@krsp.ie or 056-7794991
URL:https://krsp.ie/event/2025-krsp-safeguarding-1-2nd-of-october/
LOCATION:Online
ATTACH;FMTTYPE=image/png:https://krsp.ie/wp-content/uploads/2024/05/E15-1000-x-500-px-1.png
ORGANIZER;CN="Kilkenny Recreation & Sports Partnership":MAILTO:info@krsp.ie
END:VEVENT
BEGIN:VEVENT
DTSTART;TZID=Europe/Dublin:20251003T113000
DTEND;TZID=Europe/Dublin:20251212T123000
DTSTAMP:20260425T010344
CREATED:20250919T113206Z
LAST-MODIFIED:20251020T104124Z
UID:8675-1759491000-1765542600@krsp.ie
SUMMARY:2025 KRSP Multisport Fridays
DESCRIPTION:Kilkenny Recreation & Sports Partnership will resume this programme on Fridays for 10 weeks starting on October 3rd and running until December 12th There will be a break then for mid term October 31st. \nA variety of activities each Friday that are suitable for all to take part in and a relaxed fun environment with no competitive element is guaranteed. It is essential that care staff attend to support their people. We will have Leinster Rugby and FAI football with Will from FAI Kilkenny. We will also introduce Pickleball and Badminton in this term \nThe cost for the 10 week programme is €20. This can be paid here online by card. If paying by card is not suitable then you MUST register here using the ‘Pay On The Day’ ticket option. We will accept cash payment on the first and second day of the programme. This will be receipted on the day. \nIf you have any further queries then call Seamus on 087 3567884 or email seamus@krsp.ie
URL:https://krsp.ie/event/2025-krsp-multisport-fridays/
LOCATION:The Watershed\, Bohernatounish Road\, Kilkenny
CATEGORIES:Activities for adults with additional needs,Events
ATTACH;FMTTYPE=image/jpeg:https://krsp.ie/wp-content/uploads/2024/05/KRSP.jpg
ORGANIZER;CN="Kilkenny Recreation & Sports Partnership":MAILTO:info@krsp.ie
END:VEVENT
BEGIN:VEVENT
DTSTART;TZID=Europe/Dublin:20251014T190000
DTEND;TZID=Europe/Dublin:20251021T203000
DTSTAMP:20260425T010344
CREATED:20250929T140936Z
LAST-MODIFIED:20250930T113500Z
UID:8746-1760468400-1761078600@krsp.ie
SUMMARY:2025 KRSP LGBTQ Awareness Training for Sports Clubs in Kilkenny
DESCRIPTION:Who is this for? \nThis is for sports coaches\, committee members\, players\, administrators\, parents and anybody involved in sports clubs in Kilkenny. \nWhat You’ll Do \n\nCreating inclusive and Safe Spaces in Sport\n\nAs an advocate\, you might: \n\nSpeak up when you hear discriminatory language\nBe a point of contact for LGBTQ+ members\nSupport someone who’s coming out.\nEncourage inclusive policies and practices\n\nWhat is an LGBTQ+ Advocate? \nAn LGBTQ+ Advocate is any club member who takes active steps to promote inclusion\, challenge discrimination\, and support LGBTQ+ teammates\, members and friends. You don’t need to be an expert—just someone who cares and is willing to learn \nWhat You’ll Get \nFree training (in person or online); Ongoing support and check-ins; Resources and posters. Connection with other advocates \nFREE training ONLINE or IN PERSON – your choice? Book using the ticket below options below. \n\nOnline training session will be delivered on Tuesday\, October 14th from 7pm to 8.30pm for those who cannot attend the in-person session.\nIn Person training session will be delivered on Tuesday October 21st from 7pm to 8.30pm in Harry’s Bar\, Langton’s\, John Street Kilkenny.
URL:https://krsp.ie/event/2025-krsp-lgbtq-awareness-training-online/
LOCATION:Online
CATEGORIES:Events
ATTACH;FMTTYPE=image/png:https://krsp.ie/wp-content/uploads/2021/05/KRSP-Logo-300px.png
ORGANIZER;CN="Kilkenny Recreation & Sports Partnership":MAILTO:info@krsp.ie
END:VEVENT
BEGIN:VEVENT
DTSTART;TZID=Europe/Dublin:20251016T183000
DTEND;TZID=Europe/Dublin:20251016T213000
DTSTAMP:20260425T010344
CREATED:20250821T133300Z
LAST-MODIFIED:20250821T133300Z
UID:8471-1760639400-1760650200@krsp.ie
SUMMARY:2025 KRSP Safeguarding 1: 16th of October
DESCRIPTION:This Safeguarding 1 ‘Child Welfare and Protection in Sport’ training is a 3 hour basic awareness course\, looking at how we can keep adults and young people safe and happy within the club environment. This course is open to sports leaders\, coaches\, parents\, children’s officers and other adults involved in the organisation of sport for young people. This module will help to create and maintain a safe and fun environment for young people within the sports club or organisation. Attendees must be over 18 years of age. \nThe Sport Ireland online Safeguarding 1 Workshop (via Zoom) is an interactive course which requires participants to have : \n\nGood internet connection to allow you to have a video / take part in group discussion.\nAccess to email – Zoom link and course materials will be sent out to participants prior to course date.\n\nTo gain accreditation\, it is essential to complete the whole course. \nThe online course will be delivered via Zoom. Sport Ireland certificate will be issued by e-mail and participant details are registered with Sport Ireland’s National Database. \nShould you require any further information on accessing the online safeguarding workshop feel free to contact KRSP at info@krsp.ie or 056-7794991
URL:https://krsp.ie/event/2025-krsp-safeguarding-1-16th-of-october/
LOCATION:Online
ATTACH;FMTTYPE=image/png:https://krsp.ie/wp-content/uploads/2024/05/E15-1000-x-500-px-1.png
ORGANIZER;CN="Kilkenny Recreation & Sports Partnership":MAILTO:info@krsp.ie
END:VEVENT
BEGIN:VEVENT
DTSTART;TZID=Europe/Dublin:20251029T100000
DTEND;TZID=Europe/Dublin:20251031T110000
DTSTAMP:20260425T010344
CREATED:20251009T154105Z
LAST-MODIFIED:20251009T154808Z
UID:8842-1761732000-1761908400@krsp.ie
SUMMARY:KRSP Learn To Cycle - Halloween 2025
DESCRIPTION:Join our Learn To Cycle Programme (mixed ability) and watch your child pedal their way to confidence! \nAll programmes will take place in Gaelscoil Osraí (R95 AT85). Dates:  Wednesday October 29th to Friday October 31st. There will be two classes each day – 10am to 11am for those aged 5 years to 10 years and 11am to 12pm for those aged 11 years upwards. \nIs your child eager to cycle\, but needs a helping hand? Our Learn To Cycle Programme is here to help and teaches the fundamentals of cycling  Our programmes teach cycling in a safe and supportive environment. Experienced instructors Small group sizes Fun and engaging activities \nLet’s get those stabilisers off and watch them soar! Limited spaces available\, only €15 per person \n***IMPORTANT*** please read before you attend or register! \nPLEASE NOTE BEFORE YOU ATTEND: All participants must have a properly working bike or balance bike for this programme. The brakes and gears MUST WORK PROPERLY. The tyres must be CORRECTLY INFLATED (see side of tyre for this information). Please do not attend the programme with a bike that is not fit for cycling – do not expect us to make it roadworthy!!! \nOur tutors are engaged to teach cycling and not to conduct bike repairs as this holds up the lessons for the rest of the group! \nALL participants will be required to wear a helmet for the programme at all times – no exceptions. \nNOTE FOR PARENTS OF PARTICIPANTS: If your child has a bike but is not yet cycling\, please remove the pedals before the first session. Each session lasts one hour and turning up with issues with the bike takes away from tuition time and holds up the session for all the other participants and the tutors. Parents/guardians/care staff must remain on site for the duration of the session.
URL:https://krsp.ie/event/learn-to-cycle-halloween-2025/
LOCATION:Gaelscoil Osraí (R95 AT85)
CATEGORIES:Events
ATTACH;FMTTYPE=image/jpeg:https://krsp.ie/wp-content/uploads/2024/05/KRSP.jpg
ORGANIZER;CN="Kilkenny Recreation & Sports Partnership":MAILTO:info@krsp.ie
END:VEVENT
BEGIN:VEVENT
DTSTART;TZID=Europe/Dublin:20251030T183000
DTEND;TZID=Europe/Dublin:20251030T213000
DTSTAMP:20260425T010344
CREATED:20250821T103733Z
LAST-MODIFIED:20251020T100452Z
UID:8460-1761849000-1761859800@krsp.ie
SUMMARY:2025 KRSP Safeguarding 1: 30th of October
DESCRIPTION:This Safeguarding 1 ‘Child Welfare and Protection in Sport’ training is a 3 hour basic awareness course\, looking at how we can keep adults and young people safe and happy within the club environment. This course is open to sports leaders\, coaches\, parents\, children’s officers and other adults involved in the organisation of sport for young people. This module will help to create and maintain a safe and fun environment for young people within the sports club or organisation. Attendees must be over 18 years of age. \nThe Sport Ireland online Safeguarding 1 Workshop (via Zoom) is an interactive course which requires participants to have : \n\nGood internet connection to allow you to have a video / take part in group discussion.\nAccess to email – Zoom link and course materials will be sent out to participants prior to course date.\n\nTo gain accreditation\, it is essential to complete the whole course. \nThe online course will be delivered via Zoom. Sport Ireland certificate will be issued by e-mail and participant details are registered with Sport Ireland’s National Database. \nShould you require any further information on accessing the online safeguarding workshop feel free to contact KRSP at info@krsp.ie or 056-7794991
URL:https://krsp.ie/event/2025-krsp-safeguarding-1-30th-of-october/
LOCATION:Online
ATTACH;FMTTYPE=image/png:https://krsp.ie/wp-content/uploads/2024/05/E15-1000-x-500-px-1.png
ORGANIZER;CN="Kilkenny Recreation & Sports Partnership":MAILTO:info@krsp.ie
END:VEVENT
END:VCALENDAR