BEGIN:VCALENDAR
VERSION:2.0
PRODID:-//Kilkenny Recreation &amp; Sports Partnership - ECPv6.15.20//NONSGML v1.0//EN
CALSCALE:GREGORIAN
METHOD:PUBLISH
X-WR-CALNAME:Kilkenny Recreation &amp; Sports Partnership
X-ORIGINAL-URL:https://krsp.ie
X-WR-CALDESC:Events for Kilkenny Recreation &amp; Sports Partnership
REFRESH-INTERVAL;VALUE=DURATION:PT1H
X-Robots-Tag:noindex
X-PUBLISHED-TTL:PT1H
BEGIN:VTIMEZONE
TZID:Europe/Dublin
BEGIN:STANDARD
TZOFFSETFROM:+0000
TZOFFSETTO:+0100
TZNAME:IST
DTSTART:20240331T010000
END:STANDARD
BEGIN:DAYLIGHT
TZOFFSETFROM:+0100
TZOFFSETTO:+0000
TZNAME:GMT
DTSTART:20241027T010000
END:DAYLIGHT
BEGIN:STANDARD
TZOFFSETFROM:+0000
TZOFFSETTO:+0100
TZNAME:IST
DTSTART:20250330T010000
END:STANDARD
BEGIN:DAYLIGHT
TZOFFSETFROM:+0100
TZOFFSETTO:+0000
TZNAME:GMT
DTSTART:20251026T010000
END:DAYLIGHT
BEGIN:STANDARD
TZOFFSETFROM:+0000
TZOFFSETTO:+0100
TZNAME:IST
DTSTART:20260329T010000
END:STANDARD
BEGIN:DAYLIGHT
TZOFFSETFROM:+0100
TZOFFSETTO:+0000
TZNAME:GMT
DTSTART:20261025T010000
END:DAYLIGHT
END:VTIMEZONE
BEGIN:VEVENT
DTSTART;TZID=Europe/Dublin:20250227T103000
DTEND;TZID=Europe/Dublin:20250403T113000
DTSTAMP:20260425T174057
CREATED:20250204T124911Z
LAST-MODIFIED:20250312T104604Z
UID:6768-1740652200-1743679800@krsp.ie
SUMMARY:2025 Buggy Buddies
DESCRIPTION:Buggy Buddies is a physical activity programme for new mothers from six weeks postpartum. The programme is a way for mothers to ease their way back into physical activity after having a baby and also to meet other mothers in their area. \nThe programme runs in a six week block and is facilitated by a fully qualified exercise professional! The programme will run from 10:30am-11:30am Thursday the 27th of February for 6 weeks. The meeting point in the Hurling Statue at the Canal Square in Kilkenny City. \nAll participants must pre-register. If you need any help signing up or have any question just contact Ciara on 085-8782773 or ciara@krsp.ie! 
URL:https://krsp.ie/event/2025-buggy-buddies/
LOCATION:Canal Square\, Kilkenny City
ATTACH;FMTTYPE=image/png:https://krsp.ie/wp-content/uploads/2025/02/Copy-of-Ferrybank-Chair-Yoga-Stretch-and-Move-1000-x-300-px-1.png
ORGANIZER;CN="Kilkenny Recreation & Sports Partnership":MAILTO:info@krsp.ie
END:VEVENT
END:VCALENDAR