BEGIN:VCALENDAR
VERSION:2.0
PRODID:-//Kilkenny Recreation &amp; Sports Partnership - ECPv6.15.20//NONSGML v1.0//EN
CALSCALE:GREGORIAN
METHOD:PUBLISH
X-ORIGINAL-URL:https://krsp.ie
X-WR-CALDESC:Events for Kilkenny Recreation &amp; Sports Partnership
REFRESH-INTERVAL;VALUE=DURATION:PT1H
X-Robots-Tag:noindex
X-PUBLISHED-TTL:PT1H
BEGIN:VTIMEZONE
TZID:Europe/Dublin
BEGIN:STANDARD
TZOFFSETFROM:+0000
TZOFFSETTO:+0100
TZNAME:IST
DTSTART:20240331T010000
END:STANDARD
BEGIN:DAYLIGHT
TZOFFSETFROM:+0100
TZOFFSETTO:+0000
TZNAME:GMT
DTSTART:20241027T010000
END:DAYLIGHT
BEGIN:STANDARD
TZOFFSETFROM:+0000
TZOFFSETTO:+0100
TZNAME:IST
DTSTART:20250330T010000
END:STANDARD
BEGIN:DAYLIGHT
TZOFFSETFROM:+0100
TZOFFSETTO:+0000
TZNAME:GMT
DTSTART:20251026T010000
END:DAYLIGHT
BEGIN:STANDARD
TZOFFSETFROM:+0000
TZOFFSETTO:+0100
TZNAME:IST
DTSTART:20260329T010000
END:STANDARD
BEGIN:DAYLIGHT
TZOFFSETFROM:+0100
TZOFFSETTO:+0000
TZNAME:GMT
DTSTART:20261025T010000
END:DAYLIGHT
END:VTIMEZONE
BEGIN:VEVENT
DTSTART;TZID=Europe/Dublin:20250113T190000
DTEND;TZID=Europe/Dublin:20250310T200000
DTSTAMP:20260425T180714
CREATED:20241231T121335Z
LAST-MODIFIED:20250207T130746Z
UID:6308-1736794800-1741636800@krsp.ie
SUMMARY:2025 KRSP Ladies Circuit Class - Johnstown
DESCRIPTION:KRSP is happy to bring a fun physical activity opportunity for ladies in North Kilkenny. This tutor led indoor circuit class is great for all ladies to get fit and have fun! The tutor who will be leading this class has loads of experience teaching this style of class. \nThis 8 week class will take place every Monday evening from 7:15-8:15pm. Starting on the 13th of January to the 10th of March (excluding the bank holiday).   \nAll participants must pre-register! If you need assistance signing up you can contact Ciara on 085-8782773 or ciara@krsp.ie
URL:https://krsp.ie/event/2025-krsp-ladies-circuit-class-johnstown/
LOCATION:St. Kierans Hall\, Johnstown\, Kilkenny\, E41 EK82
ATTACH;FMTTYPE=image/png:https://krsp.ie/wp-content/uploads/2024/09/Copy-of-Black-Entertainment-Live-Music-Event-Instagram-Post-16-x-9-in-1000-x-500-px-4.png
ORGANIZER;CN="Kilkenny Recreation & Sports Partnership":MAILTO:info@krsp.ie
END:VEVENT
BEGIN:VEVENT
DTSTART;TZID=Europe/Dublin:20250115T193000
DTEND;TZID=Europe/Dublin:20250205T203000
DTSTAMP:20260425T180714
CREATED:20241231T110253Z
LAST-MODIFIED:20250120T113706Z
UID:6295-1736969400-1738787400@krsp.ie
SUMMARY:2025 KRSP Men on the Move - Johnstown
DESCRIPTION:Men On The Move is a men only\, 4-week intro programme that runs every Wednesday night from the 15th of January at 7:30pm in the hall in Colaiste Mhuire\, Johnstown. This successful programme runs also in Kilkenny City with 30+ men in attendance.  \nMen of every age and ability are welcome. The programme can help you to feel fitter\, have more energy and to meet and connect with new men in your area! Exercises include body weight\, some weighted and cardio. \nPre-registration is necessary. No cash collection. If you need assistance signing up or have any questions please contact Ciara on 085-8782773 or ciara@krsp.ie
URL:https://krsp.ie/event/2025-krsp-men-on-the-move-johnstown/
LOCATION:Colaiste Mhuire\, Johnstown\, Kilkenny\, E41H978\, Ireland
ATTACH;FMTTYPE=image/png:https://krsp.ie/wp-content/uploads/2024/12/Copy-of-Copy-of-Black-Entertainment-Live-Music-Event-Instagram-Post-16-x-9-in-1000-x-500-px-1000-x-500-px.png
ORGANIZER;CN="Kilkenny Recreation & Sports Partnership":MAILTO:info@krsp.ie
END:VEVENT
END:VCALENDAR