BEGIN:VCALENDAR
VERSION:2.0
PRODID:-//Kilkenny Recreation &amp; Sports Partnership - ECPv6.15.20//NONSGML v1.0//EN
CALSCALE:GREGORIAN
METHOD:PUBLISH
X-ORIGINAL-URL:https://krsp.ie
X-WR-CALDESC:Events for Kilkenny Recreation &amp; Sports Partnership
REFRESH-INTERVAL;VALUE=DURATION:PT1H
X-Robots-Tag:noindex
X-PUBLISHED-TTL:PT1H
BEGIN:VTIMEZONE
TZID:Europe/Dublin
BEGIN:STANDARD
TZOFFSETFROM:+0000
TZOFFSETTO:+0100
TZNAME:IST
DTSTART:20240331T010000
END:STANDARD
BEGIN:DAYLIGHT
TZOFFSETFROM:+0100
TZOFFSETTO:+0000
TZNAME:GMT
DTSTART:20241027T010000
END:DAYLIGHT
BEGIN:STANDARD
TZOFFSETFROM:+0000
TZOFFSETTO:+0100
TZNAME:IST
DTSTART:20250330T010000
END:STANDARD
BEGIN:DAYLIGHT
TZOFFSETFROM:+0100
TZOFFSETTO:+0000
TZNAME:GMT
DTSTART:20251026T010000
END:DAYLIGHT
BEGIN:STANDARD
TZOFFSETFROM:+0000
TZOFFSETTO:+0100
TZNAME:IST
DTSTART:20260329T010000
END:STANDARD
BEGIN:DAYLIGHT
TZOFFSETFROM:+0100
TZOFFSETTO:+0000
TZNAME:GMT
DTSTART:20261025T010000
END:DAYLIGHT
END:VTIMEZONE
BEGIN:VEVENT
DTSTART;TZID=Europe/Dublin:20250517T100000
DTEND;TZID=Europe/Dublin:20250517T120000
DTSTAMP:20260425T123710
CREATED:20250417T131000Z
LAST-MODIFIED:20250514T114031Z
UID:7388-1747476000-1747483200@krsp.ie
SUMMARY:Bike Week 2025 - South East Greenway Family Cycle
DESCRIPTION:For Bike Week 2025 (May 10th to May 18th) Kilkenny Recreation & Sports Partnership with Sports Active Wexford and Wexford County Council invite all families to join us in the South East Greenway Family Cycle. \nThis event will take place on Saturday\, May 17th\, 2025 from the Rosbercon entrance to the South East Greenway. There will be two events on the day\, both are geared towards family enjoyment of the South East Greenway. At 10am a family 12km cycle will start and this will be followed at 10.15 by a shorter 6km cycle. Both routes will have a ride leader and a tail sweeper. Participants will be asked not to overtake the ride leader. This is a leisurely\, fun\, family event\, and is NOT A RACE. \nThe 12km event will go from Rosbercon to the furthest point on the South East Greenway (6km from Rosbercon at the Glenmore entrance to the Greenway) and return. The shorter 6km event will go to the 3km point (half way out) and return to Rosbercon from there. There will be volunteers on the route to help with everybody’s safety and guidance. Please show them courtesy. \nOnly those who are pre-registered will be given wristbands on the day. STRICTLY – NO REGISTRATIONS will be taken on the day. Registrations will allow access to refreshments after the event and a Bike Week 2025 certificate for all registered children who take part. \n***IMPORTANT*** please read before you register! \nPLEASE NOTE BEFORE YOU REGISTER: All participants must have a properly working bike for these events. This means that your bike must have brakes and gears that are WORKING PROPERLY. Your tyres must be CORRECTLY INFLATED (see side of tyres on your bike for this information). Please do not attend the South East Greenway Family Cycle 2025 with a bike that is not fit for cycling. Our mechanic is engaged to help with last minute breakdowns or emergencies and will not be on hand to conduct bike maintenance. Please have your bike in working order prior to attending on the day for the comfort and safety of all who are taking part. \nALL participants will be required to wear a helmet for the cycle at all times – no exceptions to this rule. \nNOTE FOR PARENTS OF PARTICIPANTS: A ratio of 1 parent to 2 children is the maximum ratio that will be accepted. Parents/guardians have full responsibility for their children at all times and must not leave their child unattended or cycle onwards in the event without their child or both their children. This will make for a safe and enjoyable event for everybody. \nWe respectfully ask that all cyclists cycle slowly (this is not a race) on the left hand side both out and back. There will be other users on the South East Greenway on the day and we ask that you be mindful of this and afford them space and courtesy. \nIf you require an adult bike and helmet (limited available) please contact: Sport Active Wexford on 053 919 6557  \nAny further questions you can contact Ciara or Seamus on 056-7794991 or email at info@krsp.ie
URL:https://krsp.ie/event/bike-week-2025-south-east-greenway-family-cycle/
LOCATION:South East Greenway Rosbercon\, New Ross\, Y34 DW74
CATEGORIES:Events
ATTACH;FMTTYPE=image/png:https://krsp.ie/wp-content/uploads/2025/04/training-rides-tune-up-workshops-Free-group-rides-1000-x-500-px.png
ORGANIZER;CN="Kilkenny Recreation & Sports Partnership":MAILTO:info@krsp.ie
END:VEVENT
END:VCALENDAR