BEGIN:VCALENDAR
VERSION:2.0
PRODID:-//Kilkenny Recreation &amp; Sports Partnership - ECPv6.15.20//NONSGML v1.0//EN
CALSCALE:GREGORIAN
METHOD:PUBLISH
X-ORIGINAL-URL:https://krsp.ie
X-WR-CALDESC:Events for Kilkenny Recreation &amp; Sports Partnership
REFRESH-INTERVAL;VALUE=DURATION:PT1H
X-Robots-Tag:noindex
X-PUBLISHED-TTL:PT1H
BEGIN:VTIMEZONE
TZID:Europe/Dublin
BEGIN:STANDARD
TZOFFSETFROM:+0000
TZOFFSETTO:+0100
TZNAME:IST
DTSTART:20240331T010000
END:STANDARD
BEGIN:DAYLIGHT
TZOFFSETFROM:+0100
TZOFFSETTO:+0000
TZNAME:GMT
DTSTART:20241027T010000
END:DAYLIGHT
BEGIN:STANDARD
TZOFFSETFROM:+0000
TZOFFSETTO:+0100
TZNAME:IST
DTSTART:20250330T010000
END:STANDARD
BEGIN:DAYLIGHT
TZOFFSETFROM:+0100
TZOFFSETTO:+0000
TZNAME:GMT
DTSTART:20251026T010000
END:DAYLIGHT
BEGIN:STANDARD
TZOFFSETFROM:+0000
TZOFFSETTO:+0100
TZNAME:IST
DTSTART:20260329T010000
END:STANDARD
BEGIN:DAYLIGHT
TZOFFSETFROM:+0100
TZOFFSETTO:+0000
TZNAME:GMT
DTSTART:20261025T010000
END:DAYLIGHT
END:VTIMEZONE
BEGIN:VEVENT
DTSTART;TZID=Europe/Dublin:20250113T190000
DTEND;TZID=Europe/Dublin:20250310T200000
DTSTAMP:20260425T170738
CREATED:20241231T124701Z
LAST-MODIFIED:20250205T164449Z
UID:6311-1736794800-1741636800@krsp.ie
SUMMARY:2025 KRSP Walk and Talks
DESCRIPTION:Walk and Talks is a 8 week beginner and back to fitness walking programme taking place in Kilkenny City! It will run from the 13th of January till the 10th of March (excluding the February Bank Holiday). \n\n\nThis programme is for everybody and every age is welcome! Please bring a friend as there is room for everybody! The group ranges in ability and speeds so there will be a pace that will suit what you are looking for. The group will get split into 2 groups to allow different distances or speeds. \nPlease note: The walks will start at 7pm every Monday at the Hurling Statue in Canal Square in Kilkenny. \n\n\n**There is still spaces for this program! Please contact Ciara at ciara@krsp.ie or 085-8782773 to sign up!!**
URL:https://krsp.ie/event/2025-krsp-walk-and-talks/
LOCATION:Canal Square\, Kilkenny City
ATTACH;FMTTYPE=image/png:https://krsp.ie/wp-content/uploads/2024/12/Copy-of-Copy-of-Black-Entertainment-Live-Music-Event-Instagram-Post-16-x-9-in-1000-x-500-px-16-x-9-in-1.png
ORGANIZER;CN="Kilkenny Recreation & Sports Partnership":MAILTO:info@krsp.ie
END:VEVENT
END:VCALENDAR