BEGIN:VCALENDAR
VERSION:2.0
PRODID:-//Kilkenny Recreation &amp; Sports Partnership - ECPv6.15.20//NONSGML v1.0//EN
CALSCALE:GREGORIAN
METHOD:PUBLISH
X-ORIGINAL-URL:https://krsp.ie
X-WR-CALDESC:Events for Kilkenny Recreation &amp; Sports Partnership
REFRESH-INTERVAL;VALUE=DURATION:PT1H
X-Robots-Tag:noindex
X-PUBLISHED-TTL:PT1H
BEGIN:VTIMEZONE
TZID:Europe/Dublin
BEGIN:STANDARD
TZOFFSETFROM:+0000
TZOFFSETTO:+0100
TZNAME:IST
DTSTART:20230326T010000
END:STANDARD
BEGIN:DAYLIGHT
TZOFFSETFROM:+0100
TZOFFSETTO:+0000
TZNAME:GMT
DTSTART:20231029T010000
END:DAYLIGHT
BEGIN:STANDARD
TZOFFSETFROM:+0000
TZOFFSETTO:+0100
TZNAME:IST
DTSTART:20240331T010000
END:STANDARD
BEGIN:DAYLIGHT
TZOFFSETFROM:+0100
TZOFFSETTO:+0000
TZNAME:GMT
DTSTART:20241027T010000
END:DAYLIGHT
BEGIN:STANDARD
TZOFFSETFROM:+0000
TZOFFSETTO:+0100
TZNAME:IST
DTSTART:20250330T010000
END:STANDARD
BEGIN:DAYLIGHT
TZOFFSETFROM:+0100
TZOFFSETTO:+0000
TZNAME:GMT
DTSTART:20251026T010000
END:DAYLIGHT
END:VTIMEZONE
BEGIN:VEVENT
DTSTART;TZID=Europe/Dublin:20240408T093000
DTEND;TZID=Europe/Dublin:20240527T103000
DTSTAMP:20260426T050148
CREATED:20240325T160853Z
LAST-MODIFIED:20240415T085950Z
UID:3074-1712568600-1716805800@krsp.ie
SUMMARY:2024 KRSP Chair Based Pilates Callan April/May
DESCRIPTION:Kilkenny Recreation & Sports Partnership will deliver a Pilates / gentle exercise programme specifically for older adults and people with additional needs who are living in the Callan area. We invite everybody to participate. The programme will run from April 8th to May 27th – 7 weeks total – (no class on May 6th) \nCome along\, enjoy the company and the Pilates and feel good afterwards. Please note that all participants MUST BE REGISTERED BEFOREHAND. You can pay fees with card online or alternatively pay €20 cash on the first morning only. If you need assistance in booking please contact seamus@krsp.ie or 087 3567884. \nPLEASE NOTE: participants with additional needs must attend with a carer who must remain with them throughout.
URL:https://krsp.ie/event/2024-krsp-chair-based-pilates-callan-april-may/
CATEGORIES:Events
END:VEVENT
BEGIN:VEVENT
DTSTART;TZID=Europe/Dublin:20240412T100000
DTEND;TZID=Europe/Dublin:20240531T120000
DTSTAMP:20260426T050148
CREATED:20240326T123321Z
LAST-MODIFIED:20240404T085426Z
UID:3105-1712916000-1717156800@krsp.ie
SUMMARY:2024 KRSP Stretch & Move April
DESCRIPTION:Come and walk with us on this tutor led programme each Friday morning at 10.00-11.00am. The programme is 8 weeks long from April 12th to May 31st – 8 weeks. \nParticipants must register and pay in advance. If you need help to do this call Seamus on 087 3567884 or email seamus@krsp.ie for a call back. We can get you registered in 5 minutes! \nMeet at the Coffee Shop in Kilkenny Castle Park each Friday morning for 10am start. We will be supplying Activator Walking Poles (similar to Nordic Poles) as these help us to stretch\, walk in a nice upright way and they’re also useful for balance and for doing some light exercises when we’re finished our walk. ALL levels and abilities are welcome to join in the programme and we look forward to seeing you there. Nobody will be left behind. Spring into step with us on this programme!
URL:https://krsp.ie/event/2024-krsp-stretch-move-april/
CATEGORIES:Events
ATTACH;FMTTYPE=image/png:https://krsp.ie/wp-content/uploads/2023/10/Capture.png
END:VEVENT
BEGIN:VEVENT
DTSTART;TZID=Europe/Dublin:20240415T093000
DTEND;TZID=Europe/Dublin:20240603T103000
DTSTAMP:20260426T050148
CREATED:20240326T115941Z
LAST-MODIFIED:20240411T121337Z
UID:3079-1713173400-1717410600@krsp.ie
SUMMARY:2024 KRSP Go For Life Games
DESCRIPTION:Kilkenny Recreation & Sports Partnership welcomes over 50s to take part in Go For Life Games. They will be played each Monday morning for 7 weeks at 9.30am in The Watershed\, Kilkenny \nPrepare for the national games and a day out in Dublin on June 8th. \n7 weeks from April 8th 15th and 22nd and 29th. May 13th\, 20th and 27th (7 weeks no games on May 6th – Bank Holiday). \nPre Booking on https://krsp.ie/krsp-events/ \nFor help with booking and more information call Seamus on 087 3567884 or email seamus@krsp.ie/     Please note: NO cash payment taken on the day. \nWhile you may not have heard of the games\, they are adapted and easy to play games. They’re great fun and are suitable for everyone. The games played are: Malaí  (an adaption of the game of Cornhole); Scidil (an adaption of Ten-Pin Bowling and Skittles); Flisk  (an adaption of Frisbee and Horseshoe Pitching).
URL:https://krsp.ie/event/2024-krsp-go-for-life-games/
CATEGORIES:Events
END:VEVENT
END:VCALENDAR