BEGIN:VCALENDAR
VERSION:2.0
PRODID:-//Kilkenny Recreation &amp; Sports Partnership - ECPv6.15.20//NONSGML v1.0//EN
CALSCALE:GREGORIAN
METHOD:PUBLISH
X-ORIGINAL-URL:https://krsp.ie
X-WR-CALDESC:Events for Kilkenny Recreation &amp; Sports Partnership
REFRESH-INTERVAL;VALUE=DURATION:PT1H
X-Robots-Tag:noindex
X-PUBLISHED-TTL:PT1H
BEGIN:VTIMEZONE
TZID:Europe/Dublin
BEGIN:STANDARD
TZOFFSETFROM:+0000
TZOFFSETTO:+0100
TZNAME:IST
DTSTART:20240331T010000
END:STANDARD
BEGIN:DAYLIGHT
TZOFFSETFROM:+0100
TZOFFSETTO:+0000
TZNAME:GMT
DTSTART:20241027T010000
END:DAYLIGHT
BEGIN:STANDARD
TZOFFSETFROM:+0000
TZOFFSETTO:+0100
TZNAME:IST
DTSTART:20250330T010000
END:STANDARD
BEGIN:DAYLIGHT
TZOFFSETFROM:+0100
TZOFFSETTO:+0000
TZNAME:GMT
DTSTART:20251026T010000
END:DAYLIGHT
BEGIN:STANDARD
TZOFFSETFROM:+0000
TZOFFSETTO:+0100
TZNAME:IST
DTSTART:20260329T010000
END:STANDARD
BEGIN:DAYLIGHT
TZOFFSETFROM:+0100
TZOFFSETTO:+0000
TZNAME:GMT
DTSTART:20261025T010000
END:DAYLIGHT
END:VTIMEZONE
BEGIN:VEVENT
DTSTART;TZID=Europe/Dublin:20250322T090000
DTEND;TZID=Europe/Dublin:20250323T170000
DTSTAMP:20260425T163252
CREATED:20250312T163656Z
LAST-MODIFIED:20250313T111255Z
UID:7085-1742634000-1742749200@krsp.ie
SUMMARY:Remote Emergency Care (REC 3)
DESCRIPTION:This is a limited event with 4 spaces available for each club. This is extremely strict. \nRemote Emergency Care level 3 has an internationally recognised curriculum. The course fulfils the requirements of all major sporting governing bodies including Mountaineering Ireland and Canoe Ireland. It is run by outdoor medical experts with experience in both the medical field and in outdoor pursuits. \nThis training will be carried out by Barry Redmond. It is 2 full days of training to receive accreditation. Taking place from 9am-5pm Saturday and Sunday the 22nd and 23rd of March. \nLocation of Abbey Hall\, Graiguenamanagh  \nMain topics covered include: \n\nPrinciples of First Aid\nRecognition of Vital Signs\nThe REC Approach (Dr A.B.C.D.E.)\nTreatment for Unconsciousness\nAccident Procedure (including hygiene and personal safety)\nAirway Problems\nControl of Bleeding\nResuscitation CPR & AED\nTreatment of Fractures and Soft Tissue Injuries\nTreatment of Burns\nInjury Identification in Conscious and Un-Conscious Casualties\nTreatment of Shock\nOther Injuries including Common Medical Emergencies\nMultiple Casualties and Prioritisation (Triage)\nCasualty Management\nFirst Aid Kits
URL:https://krsp.ie/event/remote-emergency-care-rec-3/
LOCATION:Abbey Hall\, Graiguenamanagh\, Kilkenny
ATTACH;FMTTYPE=image/png:https://krsp.ie/wp-content/uploads/2025/03/Copy-of-Copy-of-Copy-of-Black-Entertainment-Live-Music-Event-Instagram-Post-16-x-9-in-1000-x-500-px-1000-x-500-px.png
ORGANIZER;CN="Kilkenny Recreation & Sports Partnership":MAILTO:info@krsp.ie
END:VEVENT
BEGIN:VEVENT
DTSTART;TZID=Europe/Dublin:20250327T183000
DTEND;TZID=Europe/Dublin:20250327T193000
DTSTAMP:20260425T163252
CREATED:20250109T101358Z
LAST-MODIFIED:20250327T132419Z
UID:6494-1743100200-1743103800@krsp.ie
SUMMARY:2025 KRSP Safeguarding 1: 27th of March
DESCRIPTION:This Safeguarding 1 ‘Child Welfare and Protection in Sport’ training is a 3 hour basic awareness course\, looking at how we can keep adults and young people safe and happy within the club environment. This course is open to sports leaders\, coaches\, parents\, children’s officers and other adults involved in the organisation of sport for young people. This module will help to create and maintain a safe and fun environment for young people within the sports club or organisation. Attendees must be over 18 years of age. \nThe Sport Ireland online Safeguarding 1 Workshop (via Zoom) is an interactive course which requires participants to have : \n\nGood internet connection to allow you to have a video / take part in group discussion\nAccess to email – Zoom link and course materials will be sent out to participants prior to course date.\n\n  \nTo gain accreditation\, it is essential to complete the whole course. \nThe online course will be delivered via Zoom. Sport Ireland certificate will be issued by e-mail and participant details are registered with Sport Ireland’s National Database. \nShould you require any further information on accessing the online safeguarding workshop feel free to contact KRSP at info@krsp.ie
URL:https://krsp.ie/event/2025-krsp-safeguarding-1-20th-of-march/
LOCATION:Online
CATEGORIES:Events
ATTACH;FMTTYPE=image/png:https://krsp.ie/wp-content/uploads/2024/05/E15-1000-x-500-px-1.png
ORGANIZER;CN="Kilkenny Recreation & Sports Partnership":MAILTO:info@krsp.ie
END:VEVENT
END:VCALENDAR