BEGIN:VCALENDAR
VERSION:2.0
PRODID:-//Kilkenny Recreation &amp; Sports Partnership - ECPv6.15.20//NONSGML v1.0//EN
CALSCALE:GREGORIAN
METHOD:PUBLISH
X-WR-CALNAME:Kilkenny Recreation &amp; Sports Partnership
X-ORIGINAL-URL:https://krsp.ie
X-WR-CALDESC:Events for Kilkenny Recreation &amp; Sports Partnership
REFRESH-INTERVAL;VALUE=DURATION:PT1H
X-Robots-Tag:noindex
X-PUBLISHED-TTL:PT1H
BEGIN:VTIMEZONE
TZID:Europe/Dublin
BEGIN:STANDARD
TZOFFSETFROM:+0000
TZOFFSETTO:+0100
TZNAME:IST
DTSTART:20240331T010000
END:STANDARD
BEGIN:DAYLIGHT
TZOFFSETFROM:+0100
TZOFFSETTO:+0000
TZNAME:GMT
DTSTART:20241027T010000
END:DAYLIGHT
BEGIN:STANDARD
TZOFFSETFROM:+0000
TZOFFSETTO:+0100
TZNAME:IST
DTSTART:20250330T010000
END:STANDARD
BEGIN:DAYLIGHT
TZOFFSETFROM:+0100
TZOFFSETTO:+0000
TZNAME:GMT
DTSTART:20251026T010000
END:DAYLIGHT
BEGIN:STANDARD
TZOFFSETFROM:+0000
TZOFFSETTO:+0100
TZNAME:IST
DTSTART:20260329T010000
END:STANDARD
BEGIN:DAYLIGHT
TZOFFSETFROM:+0100
TZOFFSETTO:+0000
TZNAME:GMT
DTSTART:20261025T010000
END:DAYLIGHT
END:VTIMEZONE
BEGIN:VEVENT
DTSTART;TZID=Europe/Dublin:20250510T090000
DTEND;TZID=Europe/Dublin:20250511T170000
DTSTAMP:20260425T123558
CREATED:20250411T120331Z
LAST-MODIFIED:20251104T115111Z
UID:7368-1746867600-1746982800@krsp.ie
SUMMARY:KRSP 2025 REC3 training - 10 and 11th of May
DESCRIPTION:Content is protected.
URL:https://krsp.ie/event/krsp-2025-rec3-training-10-and-11th-of-may/
LOCATION:Graiguenamanagh Rowing Club\, Graiguenamanagh\, R95DW66\, Ireland
ORGANIZER;CN="Kilkenny Recreation & Sports Partnership":MAILTO:info@krsp.ie
END:VEVENT
BEGIN:VEVENT
DTSTART;TZID=Europe/Dublin:20250514T190000
DTEND;TZID=Europe/Dublin:20250516T200000
DTSTAMP:20260425T123558
CREATED:20250502T110652Z
LAST-MODIFIED:20250514T125455Z
UID:7559-1747249200-1747425600@krsp.ie
SUMMARY:2025 KRSP - Bike Maintenance Workshop
DESCRIPTION:This workshop is for new\, old or current cyclists looking to increase their knowledge on bike maintenance by an experienced\, professional bike mechanic. It will be facilitated a qualified bike fitter and a lifelong cyclist. Ian had his own shop here in Kilkenny\, The Cycle Clinic! \nAfter this class\, you will have confidence to carry out basic repairs and replacements to your bike. The class takes place in Billy Byrnes\, Kilkenny City on Monday May 12th and Wednesday May 14th from 7.00pm to 8:00pm! \nWorkshop includes: \n\nM check\nTyre and tube replace\nLubrication chain\nBrake check cable wear and lube\nTyre pressure check\nAsses wheel for trueness\nBrake tuning\nAnd if you have any quires on anything else you would like Ian to go through!\n\n• ALL participants MUST pre-register online. If you need support to register online contact Ciara 085-8782773 or ciara@krsp.ie
URL:https://krsp.ie/event/7559/
LOCATION:Billy Byrnes\, 39 John Street Upper\, Kilkenny City\, R95 K091
ATTACH;FMTTYPE=image/png:https://krsp.ie/wp-content/uploads/2025/05/Copy-of-training-rides-tune-up-workshops-Free-group-rides-1000-x-500-px-4.png
ORGANIZER;CN="Kilkenny Recreation & Sports Partnership":MAILTO:info@krsp.ie
END:VEVENT
BEGIN:VEVENT
DTSTART;TZID=Europe/Dublin:20250515T183000
DTEND;TZID=Europe/Dublin:20250515T213000
DTSTAMP:20260425T123558
CREATED:20250109T101729Z
LAST-MODIFIED:20250515T151026Z
UID:6497-1747333800-1747344600@krsp.ie
SUMMARY:2025 KRSP Safeguarding 1: 15th of May
DESCRIPTION:This Safeguarding 1 ‘Child Welfare and Protection in Sport’ training is a 3 hour basic awareness course\, looking at how we can keep adults and young people safe and happy within the club environment. This course is open to sports leaders\, coaches\, parents\, children’s officers and other adults involved in the organisation of sport for young people. This module will help to create and maintain a safe and fun environment for young people within the sports club or organisation. Attendees must be over 18 years of age.\nThe Sport Ireland online Safeguarding 1 Workshop (via Zoom) is an interactive course which requires participants to have : \n\nGood internet connection to allow you to have a video / take part in group discussion.\nAccess to email – Zoom link and course materials will be sent out to participants prior to course date.\n\nTo gain accreditation\, it is essential to complete the whole course. \nThe online course will be delivered via Zoom. Sport Ireland certificate will be issued by e-mail and participant details are registered with Sport Ireland’s National Database. \nShould you require any further information on accessing the online safeguarding workshop feel free to contact KRSP at info@krsp.ie
URL:https://krsp.ie/event/2025-krsp-safeguarding-1-1st-of-may/
LOCATION:Online
ATTACH;FMTTYPE=image/png:https://krsp.ie/wp-content/uploads/2024/05/E15-1000-x-500-px-1.png
ORGANIZER;CN="Kilkenny Recreation & Sports Partnership":MAILTO:info@krsp.ie
END:VEVENT
END:VCALENDAR