BEGIN:VCALENDAR
VERSION:2.0
PRODID:-//Kilkenny Recreation &amp; Sports Partnership - ECPv6.15.20//NONSGML v1.0//EN
CALSCALE:GREGORIAN
METHOD:PUBLISH
X-ORIGINAL-URL:https://krsp.ie
X-WR-CALDESC:Events for Kilkenny Recreation &amp; Sports Partnership
REFRESH-INTERVAL;VALUE=DURATION:PT1H
X-Robots-Tag:noindex
X-PUBLISHED-TTL:PT1H
BEGIN:VTIMEZONE
TZID:Europe/Dublin
BEGIN:STANDARD
TZOFFSETFROM:+0000
TZOFFSETTO:+0100
TZNAME:IST
DTSTART:20240331T010000
END:STANDARD
BEGIN:DAYLIGHT
TZOFFSETFROM:+0100
TZOFFSETTO:+0000
TZNAME:GMT
DTSTART:20241027T010000
END:DAYLIGHT
BEGIN:STANDARD
TZOFFSETFROM:+0000
TZOFFSETTO:+0100
TZNAME:IST
DTSTART:20250330T010000
END:STANDARD
BEGIN:DAYLIGHT
TZOFFSETFROM:+0100
TZOFFSETTO:+0000
TZNAME:GMT
DTSTART:20251026T010000
END:DAYLIGHT
BEGIN:STANDARD
TZOFFSETFROM:+0000
TZOFFSETTO:+0100
TZNAME:IST
DTSTART:20260329T010000
END:STANDARD
BEGIN:DAYLIGHT
TZOFFSETFROM:+0100
TZOFFSETTO:+0000
TZNAME:GMT
DTSTART:20261025T010000
END:DAYLIGHT
END:VTIMEZONE
BEGIN:VEVENT
DTSTART;TZID=Europe/Dublin:20251110T190000
DTEND;TZID=Europe/Dublin:20251110T223000
DTSTAMP:20260425T040935
CREATED:20251015T123200Z
LAST-MODIFIED:20251016T145754Z
UID:8905-1762801200-1762813800@krsp.ie
SUMMARY:2025 KRSP First Aid Course - Urlingford/Johnstown
DESCRIPTION:Content is protected.
URL:https://krsp.ie/event/2025-krsp-first-aid-course-urlingford-johnstown/
LOCATION:St. Kierans Hall\, Johnstown\, Kilkenny\, E41 EK82
CATEGORIES:Volunteering
ORGANIZER;CN="Kilkenny Recreation & Sports Partnership":MAILTO:info@krsp.ie
END:VEVENT
BEGIN:VEVENT
DTSTART;TZID=Europe/Dublin:20251127T190000
DTEND;TZID=Europe/Dublin:20251127T223000
DTSTAMP:20260425T040935
CREATED:20251107T143306Z
LAST-MODIFIED:20251112T122409Z
UID:9096-1764270000-1764282600@krsp.ie
SUMMARY:2025 KRSP First Aid Course - Kilkenny City
DESCRIPTION:Kilkenny Recreation & Sports Partnership are delighted to run a first aid course open only to volunteers in sports clubs in Kilkenny!  \nThis course has limited availability\, with just 2 spots per club. If a club books more than 2 places\, any extra bookings will be refunded. To gain accreditation\, it is essential to complete the whole course. \nBasic First Aid course covers a wide range of emergencies that may occur at home\, in your club or in your community. It will provide you with the knowledge & skillset to be confident in rendering first aid to someone in need. \nIt will teach you the necessary skills on how to deal with.. \n\nScene Safety\nActivating Emergency Services\nHeart Attack\nCPR / AED\nStroke\nChoking\nRecovery Position\nHead Injuries\nLimb Injuries\nCuts / Bleeds\nBurns\nAllergic Reaction\n\nAll participants will receive a certificate upon successful completion. \nThe course takes place from 7pm for approximately 3.5 hours in Club House Hotel\, R95 PX68 \nAttendees must be over 16 years of age \nFor more information please contact Mairead on 087 065 0983 or mairead@krsp.ie
URL:https://krsp.ie/event/2025-krsp-first-aid-course-kilkenny-city/
LOCATION:Club House Hotel\, R95 PX68\, Ireland
CATEGORIES:Volunteering
ATTACH;FMTTYPE=image/png:https://krsp.ie/wp-content/uploads/2024/04/Untitled-1000-x-500-px.png
ORGANIZER;CN="Kilkenny Recreation & Sports Partnership":MAILTO:info@krsp.ie
END:VEVENT
END:VCALENDAR