BEGIN:VCALENDAR
VERSION:2.0
PRODID:-//Kilkenny Recreation &amp; Sports Partnership - ECPv6.15.20//NONSGML v1.0//EN
CALSCALE:GREGORIAN
METHOD:PUBLISH
X-WR-CALNAME:Kilkenny Recreation &amp; Sports Partnership
X-ORIGINAL-URL:https://krsp.ie
X-WR-CALDESC:Events for Kilkenny Recreation &amp; Sports Partnership
REFRESH-INTERVAL;VALUE=DURATION:PT1H
X-Robots-Tag:noindex
X-PUBLISHED-TTL:PT1H
BEGIN:VTIMEZONE
TZID:Europe/Dublin
BEGIN:STANDARD
TZOFFSETFROM:+0000
TZOFFSETTO:+0100
TZNAME:IST
DTSTART:20240331T010000
END:STANDARD
BEGIN:DAYLIGHT
TZOFFSETFROM:+0100
TZOFFSETTO:+0000
TZNAME:GMT
DTSTART:20241027T010000
END:DAYLIGHT
BEGIN:STANDARD
TZOFFSETFROM:+0000
TZOFFSETTO:+0100
TZNAME:IST
DTSTART:20250330T010000
END:STANDARD
BEGIN:DAYLIGHT
TZOFFSETFROM:+0100
TZOFFSETTO:+0000
TZNAME:GMT
DTSTART:20251026T010000
END:DAYLIGHT
BEGIN:STANDARD
TZOFFSETFROM:+0000
TZOFFSETTO:+0100
TZNAME:IST
DTSTART:20260329T010000
END:STANDARD
BEGIN:DAYLIGHT
TZOFFSETFROM:+0100
TZOFFSETTO:+0000
TZNAME:GMT
DTSTART:20261025T010000
END:DAYLIGHT
END:VTIMEZONE
BEGIN:VEVENT
DTSTART;TZID=Europe/Dublin:20250510T130000
DTEND;TZID=Europe/Dublin:20250510T140000
DTSTAMP:20260425T124436
CREATED:20250424T121939Z
LAST-MODIFIED:20250509T092520Z
UID:7433-1746882000-1746885600@krsp.ie
SUMMARY:2025 KRSP Teen intro to Mountain Biking
DESCRIPTION:Bike Week is a national campaign where multiple different programmes and courses take place to encourage people to get cycling! This year we have a multiple programmes and courses available to get people of Kilkenny out and moving! Bike week is the 10th – 18th of May \nThis taster intro to Mountain Biking programme is open to teenagers from 13 –  17 years old to learn how to do Mountain Biking with a trained instructor. This is open to complete beginners! It will take place in Castlecomer Discovery Park.  \nThis 1 hour event will take place Saturday the 10th of May at 1pm !  \nAll equipment and bikes will be provided. Parent / Guardian must sign up your teenager.  \nIf you have any questions please contact Ciara on 085-8782773 or ciara@krsp.ie
URL:https://krsp.ie/event/2025-krsp-teen-intro-to-mountain-biking/
LOCATION:Castlecomer Discovery Park\, The Estate Yard\, Ardra\, Castlecomer\, Kilkenny\, R95 HY7X\, Ireland
ATTACH;FMTTYPE=image/png:https://krsp.ie/wp-content/uploads/2025/04/Copy-of-training-rides-tune-up-workshops-Free-group-rides-1000-x-500-px-2.png
ORGANIZER;CN="Kilkenny Recreation & Sports Partnership":MAILTO:info@krsp.ie
END:VEVENT
BEGIN:VEVENT
DTSTART;TZID=Europe/Dublin:20250514T190000
DTEND;TZID=Europe/Dublin:20250604T210000
DTSTAMP:20260425T124436
CREATED:20250428T144639Z
LAST-MODIFIED:20250514T114731Z
UID:7459-1747249200-1749070800@krsp.ie
SUMMARY:2025 KRSP Move Better\, Walk Stronger! May - June
DESCRIPTION:Kilkenny Recreation & Sports Partnership are delighted to start our Move Better\, Walk Stronger programme! This 4 week programme will have 3 group fitness classes. These sessions will incorperate mobility\, flexibility\, cardio and weighted exercises. The final session both the male and female groups will meet and walk the Grange Crag Loop walk together. \n\nStarting on the 14th of May in Colaiste Mhuire’s astro turf.\nLadies class starting at 7:15pm\nMen class starting at 8:15pm\n\nThis programme is targeted for beginners to fitness or those back to fitness. The classes promise a fun and relaxed atmosphere! \nPrevious participants have said: \n“It has got me back thinking of exercise\, watching my food and getting back walking after years of not” – previous Male particiapant. \n “You do what you can do\, no one is looking at you or judging you” – previous female particiapant \n  \nIf you have any further questions please contact Ciara on 085-8782773 or ciara@krsp.ie 
URL:https://krsp.ie/event/2025-krsp-move-better-walk-stronger-may-june/
LOCATION:Colaiste Mhuire\, Johnstown\, Kilkenny\, E41H978\, Ireland
ATTACH;FMTTYPE=image/png:https://krsp.ie/wp-content/uploads/2025/04/Copy-of-Copy-of-training-rides-tune-up-workshops-Free-group-rides-1000-x-500-px.png
ORGANIZER;CN="Kilkenny Recreation & Sports Partnership":MAILTO:info@krsp.ie
END:VEVENT
END:VCALENDAR